BEGIN:VCALENDAR
VERSION:2.0
PRODID:-//Actu.Art - ECPv6.15.13//NONSGML v1.0//EN
CALSCALE:GREGORIAN
METHOD:PUBLISH
X-WR-CALNAME:Actu.Art
X-ORIGINAL-URL:https://actu.art
X-WR-CALDESC:Évènements pour Actu.Art
BEGIN:VTIMEZONE
TZID:Europe/Paris
BEGIN:DAYLIGHT
TZOFFSETFROM:+0100
TZOFFSETTO:+0200
TZNAME:CEST
DTSTART:20240331T010000
END:DAYLIGHT
BEGIN:STANDARD
TZOFFSETFROM:+0200
TZOFFSETTO:+0100
TZNAME:CET
DTSTART:20241027T010000
END:STANDARD
BEGIN:DAYLIGHT
TZOFFSETFROM:+0100
TZOFFSETTO:+0200
TZNAME:CEST
DTSTART:20250330T010000
END:DAYLIGHT
BEGIN:STANDARD
TZOFFSETFROM:+0200
TZOFFSETTO:+0100
TZNAME:CET
DTSTART:20251026T010000
END:STANDARD
BEGIN:DAYLIGHT
TZOFFSETFROM:+0100
TZOFFSETTO:+0200
TZNAME:CEST
DTSTART:20260329T010000
END:DAYLIGHT
BEGIN:STANDARD
TZOFFSETFROM:+0200
TZOFFSETTO:+0100
TZNAME:CET
DTSTART:20261025T010000
END:STANDARD
END:VTIMEZONE
BEGIN:VEVENT
DTSTART;VALUE=DATE:20250523
DTEND;VALUE=DATE:20250526
DTSTAMP:20260426T000103
CREATED:20250521T211824Z
LAST-MODIFIED:20250521T213431Z
UID:118504-1747958400-1748217599@actu.art
SUMMARY:Paris Gallery Weekend
DESCRIPTION:Paris Gallery Weekend 2025 démarre le vendredi 23 mai ! Ouvert à toutes et à tous\, gratuit et en libre accès\, l’événement réunit cette année 77 galeries pour célébrer la vitalité de la scène artistique francilienne. \nConsultez notre agenda en ligne pour ne rien manquer des temps forts du week-end : visites guidées gratuites\, rencontres avec les artistes\, performances\, signatures… Autant d’occasions de découvrir la richesse des programmations et des événements proposés par les galeries. \nVous pouvez choisir d’explorer les galeries par quartiers ou de vous laisser inspirer par les « Zooms sur »\, une nouveauté de cette 12e édition\, qui propose des sélections thématiques par médiums\, artistes ou sujets. \nUn week-end pour flâner\, découvrir\, échanger et soutenir les galeries franciliennes !
URL:https://actu.art/event/paris-gallery-weekend/
LOCATION:Paris\, Paris\, Paris\, 75001\, France
CATEGORIES:Expositions Galeries
ATTACH;FMTTYPE=image/jpeg:https://actu.art/wp-content/uploads/2025/05/Paris-Gallery-Week-end.jpg
END:VEVENT
END:VCALENDAR