BEGIN:VCALENDAR
VERSION:2.0
PRODID:-//Actu.Art - ECPv6.15.13//NONSGML v1.0//EN
CALSCALE:GREGORIAN
METHOD:PUBLISH
X-WR-CALNAME:Actu.Art
X-ORIGINAL-URL:https://actu.art
X-WR-CALDESC:Évènements pour Actu.Art
BEGIN:VTIMEZONE
TZID:Europe/Paris
BEGIN:DAYLIGHT
TZOFFSETFROM:+0100
TZOFFSETTO:+0200
TZNAME:CEST
DTSTART:20240331T010000
END:DAYLIGHT
BEGIN:STANDARD
TZOFFSETFROM:+0200
TZOFFSETTO:+0100
TZNAME:CET
DTSTART:20241027T010000
END:STANDARD
BEGIN:DAYLIGHT
TZOFFSETFROM:+0100
TZOFFSETTO:+0200
TZNAME:CEST
DTSTART:20250330T010000
END:DAYLIGHT
BEGIN:STANDARD
TZOFFSETFROM:+0200
TZOFFSETTO:+0100
TZNAME:CET
DTSTART:20251026T010000
END:STANDARD
BEGIN:DAYLIGHT
TZOFFSETFROM:+0100
TZOFFSETTO:+0200
TZNAME:CEST
DTSTART:20260329T010000
END:DAYLIGHT
BEGIN:STANDARD
TZOFFSETFROM:+0200
TZOFFSETTO:+0100
TZNAME:CET
DTSTART:20261025T010000
END:STANDARD
BEGIN:DAYLIGHT
TZOFFSETFROM:+0100
TZOFFSETTO:+0200
TZNAME:CEST
DTSTART:20270328T010000
END:DAYLIGHT
BEGIN:STANDARD
TZOFFSETFROM:+0200
TZOFFSETTO:+0100
TZNAME:CET
DTSTART:20271031T010000
END:STANDARD
END:VTIMEZONE
BEGIN:VEVENT
DTSTART;TZID=Europe/Paris:20250419T100000
DTEND;TZID=Europe/Paris:20260104T180000
DTSTAMP:20260424T090314
CREATED:20250508T201811Z
LAST-MODIFIED:20250508T201811Z
UID:117381-1745056800-1767549600@actu.art
SUMMARY:Paris-Bruxelles\, 1880-1914. Effervescence des visions artistiques
DESCRIPTION:Plongez dans l’effervescence créative de la fin du XIXᵉ et du début du XXᵉ siècle avec une exposition exceptionnelle réunissant près de 400 œuvres d’art issues d’une collection privée rare et fascinante. Un ensemble de peintures\, dessins\, aquarelles\, estampes\, affiches\, livres et revues illustrées d’artistes incontournables ou encore à découvrir vous invite à explorer un univers artistique vibrant et mal connu. \nCette collection\, patiemment constituée depuis plus de 25 ans par un collectionneur passionné\, dévoile les connexions intimes et esthétiques entre les artistes de Paris et de Bruxelles à une époque marquée par l’audace et l’innovation. Outre les grands noms de l’art\, découvrez des œuvres d’avant-garde\, des trésors oubliés et des domaines inattendus comme les artistes du cabaret du Chat Noir. \nLe parcours offre une vision panoramique de l’art européen : des lumières de Montmartre à l’influence de l’art japonais\, du symbolisme évocateur à la Bretagne de Pont-Aven\, en passant par le néo-impressionnisme et les Nabis. Plus qu’une simple exposition\, c’est une invitation à redécouvrir l’effervescence culturelle d’une époque en pleine mutation. \nLaissez-vous surprendre par cette immersion unique dans l’histoire de l’art\, enrichie par un catalogue qui éclaire les multiples facettes de cette période foisonnante. Une occasion de voyager dans le temps et de porter un regard neuf sur des œuvres qui\, ensemble\, racontent une période artistique d’une grande richesse. \nGeorges Bottini\, La vitrine de Sagot\, 1898\, aquarelle sur papier\, collection privée\, photo Michiel Elsevier Stokmans \nCommissariat : \nCommissaire scientifique : Phillip Dennis Cate\, directeur émérite du Jane Voorhees Zimmerli Art Museum et commissaire indépendant.\nCommissaire général : William Saadé
URL:https://actu.art/event/paris-bruxelles-1880-1914-effervescence-des-visions-artistiques/
LOCATION:Palais Lumière\, Quai Charles Albert Besson\, Évian-les-Bains\, Haute-Savoie\, 74500\, France
CATEGORIES:Expositions Temporaires
ATTACH;FMTTYPE=image/jpeg:https://actu.art/wp-content/uploads/2025/05/Affiche-Paris-Bruxelles.jpg
GEO:46.40161;6.5900359
X-APPLE-STRUCTURED-LOCATION;VALUE=URI;X-ADDRESS=Palais Lumière Quai Charles Albert Besson Évian-les-Bains Haute-Savoie 74500 France;X-APPLE-RADIUS=500;X-TITLE=Quai Charles Albert Besson:geo:6.5900359,46.40161
END:VEVENT
END:VCALENDAR