BEGIN:VCALENDAR
VERSION:2.0
PRODID:-//Actu.Art - ECPv6.15.13//NONSGML v1.0//EN
CALSCALE:GREGORIAN
METHOD:PUBLISH
X-WR-CALNAME:Actu.Art
X-ORIGINAL-URL:https://actu.art
X-WR-CALDESC:Évènements pour Actu.Art
BEGIN:VTIMEZONE
TZID:Europe/Paris
BEGIN:DAYLIGHT
TZOFFSETFROM:+0100
TZOFFSETTO:+0200
TZNAME:CEST
DTSTART:20240331T010000
END:DAYLIGHT
BEGIN:STANDARD
TZOFFSETFROM:+0200
TZOFFSETTO:+0100
TZNAME:CET
DTSTART:20241027T010000
END:STANDARD
BEGIN:DAYLIGHT
TZOFFSETFROM:+0100
TZOFFSETTO:+0200
TZNAME:CEST
DTSTART:20250330T010000
END:DAYLIGHT
BEGIN:STANDARD
TZOFFSETFROM:+0200
TZOFFSETTO:+0100
TZNAME:CET
DTSTART:20251026T010000
END:STANDARD
BEGIN:DAYLIGHT
TZOFFSETFROM:+0100
TZOFFSETTO:+0200
TZNAME:CEST
DTSTART:20260329T010000
END:DAYLIGHT
BEGIN:STANDARD
TZOFFSETFROM:+0200
TZOFFSETTO:+0100
TZNAME:CET
DTSTART:20261025T010000
END:STANDARD
END:VTIMEZONE
BEGIN:VEVENT
DTSTART;TZID=Europe/Paris:20250503T133000
DTEND;TZID=Europe/Paris:20250531T183000
DTSTAMP:20260422T175201
CREATED:20250430T220057Z
LAST-MODIFIED:20250430T220057Z
UID:116622-1746279000-1748716200@actu.art
SUMMARY:"Où sont passés les miracles ?"
DESCRIPTION:Dans le cadre du 17ème Printemps de l’Art Contemporain. \nVERNISSAGE LE 2 MAI à partir de 18h30 \n« Où sont passés les miracles » réunit les oeuvres de jeunes artistes\, Mélanie Bayle\, Manon Marvie\, Marion Safriouine\, Anne Teisseire.\nConçue comme une expérience immersive\, l’exposition prend la forme d’une chasse au trésor contemporaine à la recherche d’un « miracle » évanoui\, vestige d’un merveilleux enfoui\, oublié.\nElle propose une réflexion poétique sur la mémoire et la fragmentation. Les artistes interrogent la persistance de l’extraordinaire sous des formes disloquées\, dispersées comme des éclats à réassembler. À travers une diversité de médiums — céramique\, textile\, photographie\, peinture — l’exposition explore l’idée du fragment\, de la brisure à la recomposition\, de la trace au renouveau.\nChaque oeuvre devient indice ou témoin d’une quête sensible\, invitant les visiteurs à parcourir cet espace narratif où l’art suggère autant qu’il révèle. Entre disparition et réinvention\, se dessine une cartographie mouvante du possible\, où réside encore la promesse d’un merveilleux. \nDiner immersif dans l’exposition en partenariat avec la chef Marie Guillet le 13 Mai\, sur réservation uniquement.
URL:https://actu.art/event/ou-sont-passes-les-miracles/
LOCATION:Urban Gallery\, 9 rue Mazenod\, Marseille 02\, Bouches-du-Rhône\, 13002\, France
CATEGORIES:Expositions Galeries
ATTACH;FMTTYPE=image/jpeg:https://actu.art/wp-content/uploads/2025/05/Ou_sont_passes_les_miracles_.jpg
GEO:43.3017123;5.3652961
X-APPLE-STRUCTURED-LOCATION;VALUE=URI;X-ADDRESS=Urban Gallery 9 rue Mazenod Marseille 02 Bouches-du-Rhône 13002 France;X-APPLE-RADIUS=500;X-TITLE=9 rue Mazenod:geo:5.3652961,43.3017123
END:VEVENT
END:VCALENDAR