BEGIN:VCALENDAR
VERSION:2.0
PRODID:-//Actu.Art - ECPv6.15.13//NONSGML v1.0//EN
CALSCALE:GREGORIAN
METHOD:PUBLISH
X-WR-CALNAME:Actu.Art
X-ORIGINAL-URL:https://actu.art
X-WR-CALDESC:Évènements pour Actu.Art
BEGIN:VTIMEZONE
TZID:Europe/Paris
BEGIN:DAYLIGHT
TZOFFSETFROM:+0100
TZOFFSETTO:+0200
TZNAME:CEST
DTSTART:20180325T010000
END:DAYLIGHT
BEGIN:STANDARD
TZOFFSETFROM:+0200
TZOFFSETTO:+0100
TZNAME:CET
DTSTART:20181028T010000
END:STANDARD
BEGIN:DAYLIGHT
TZOFFSETFROM:+0100
TZOFFSETTO:+0200
TZNAME:CEST
DTSTART:20190331T010000
END:DAYLIGHT
BEGIN:STANDARD
TZOFFSETFROM:+0200
TZOFFSETTO:+0100
TZNAME:CET
DTSTART:20191027T010000
END:STANDARD
BEGIN:DAYLIGHT
TZOFFSETFROM:+0100
TZOFFSETTO:+0200
TZNAME:CEST
DTSTART:20200329T010000
END:DAYLIGHT
BEGIN:STANDARD
TZOFFSETFROM:+0200
TZOFFSETTO:+0100
TZNAME:CET
DTSTART:20201025T010000
END:STANDARD
END:VTIMEZONE
BEGIN:VEVENT
DTSTART;TZID=Europe/Paris:20190424T120000
DTEND;TZID=Europe/Paris:20190615T200000
DTSTAMP:20260424T180924
CREATED:20190602T201053Z
LAST-MODIFIED:20190602T201757Z
UID:8401-1556107200-1560628800@actu.art
SUMMARY:Ôtsu-e
DESCRIPTION:La Maison de la culture du Japon présente la première exposition sur l’imagerie japonaise de l’époque d’Edo organisée en Europe. À travers plus de 120 œuvres et documents\, le parcours met en lumière un art populaire méconnu\, qui se développa près de Kyoto entre le XVIIe et le XIXe siècle.
URL:https://actu.art/event/otsu-e/
LOCATION:Maison de la culture du Japon\, 101 bis quai Branly\, Paris 15\, Paris\, 75015\, France
CATEGORIES:Notre Sélection
ATTACH;FMTTYPE=image/jpeg:https://actu.art/wp-content/uploads/2019/06/Otsu_e.jpg
GEO:48.85569;2.2902982
X-APPLE-STRUCTURED-LOCATION;VALUE=URI;X-ADDRESS=Maison de la culture du Japon 101 bis quai Branly Paris 15 Paris 75015 France;X-APPLE-RADIUS=500;X-TITLE=101 bis quai Branly:geo:2.2902982,48.85569
END:VEVENT
END:VCALENDAR