BEGIN:VCALENDAR
VERSION:2.0
PRODID:-//Actu.Art - ECPv6.15.13//NONSGML v1.0//EN
CALSCALE:GREGORIAN
METHOD:PUBLISH
X-WR-CALNAME:Actu.Art
X-ORIGINAL-URL:https://actu.art
X-WR-CALDESC:Évènements pour Actu.Art
BEGIN:VTIMEZONE
TZID:Europe/Paris
BEGIN:DAYLIGHT
TZOFFSETFROM:+0100
TZOFFSETTO:+0200
TZNAME:CEST
DTSTART:20210328T010000
END:DAYLIGHT
BEGIN:STANDARD
TZOFFSETFROM:+0200
TZOFFSETTO:+0100
TZNAME:CET
DTSTART:20211031T010000
END:STANDARD
BEGIN:DAYLIGHT
TZOFFSETFROM:+0100
TZOFFSETTO:+0200
TZNAME:CEST
DTSTART:20220327T010000
END:DAYLIGHT
BEGIN:STANDARD
TZOFFSETFROM:+0200
TZOFFSETTO:+0100
TZNAME:CET
DTSTART:20221030T010000
END:STANDARD
BEGIN:DAYLIGHT
TZOFFSETFROM:+0100
TZOFFSETTO:+0200
TZNAME:CEST
DTSTART:20230326T010000
END:DAYLIGHT
BEGIN:STANDARD
TZOFFSETFROM:+0200
TZOFFSETTO:+0100
TZNAME:CET
DTSTART:20231029T010000
END:STANDARD
BEGIN:DAYLIGHT
TZOFFSETFROM:+0100
TZOFFSETTO:+0200
TZNAME:CEST
DTSTART:20240331T010000
END:DAYLIGHT
BEGIN:STANDARD
TZOFFSETFROM:+0200
TZOFFSETTO:+0100
TZNAME:CET
DTSTART:20241027T010000
END:STANDARD
END:VTIMEZONE
BEGIN:VEVENT
DTSTART;VALUE=DATE:20220923
DTEND;VALUE=DATE:20230213
DTSTAMP:20260424T004217
CREATED:20220710T112750Z
LAST-MODIFIED:20231013T153159Z
UID:46306-1663891200-1676246399@actu.art
SUMMARY:Oskar Kokoschka - Un fauve à Vienne
DESCRIPTION:C’est la première rétrospective parisienne consacrée à Oskar Kokoschka (1886-1980). Le parcours d’exposition\, qui retrace sept décennies de création picturale\, met en lumière l’originalité dont fait preuve l’artiste autrichien : une plongée au cœur du XXe siècle européen. Une sélection unique des 150 œuvres les plus significatives du peintre est présentée grâce au soutien d’importantes collections européennes et américaines. \n \nCatalogue d’exposition : \n \nAmazon
URL:https://actu.art/event/oskar-kokoschka/
LOCATION:Musée d’Art Moderne de la ville de Paris\, 11\, avenue du Président Wilson\, Paris\, Paris\, 75116\, France
CATEGORIES:Notre Sélection
ATTACH;FMTTYPE=image/jpeg:https://actu.art/wp-content/uploads/2022/07/Oscar-Kokoschka.jpg
GEO:48.8643421;2.2978208
X-APPLE-STRUCTURED-LOCATION;VALUE=URI;X-ADDRESS=Musée d’Art Moderne de la ville de Paris 11 avenue du Président Wilson Paris Paris 75116 France;X-APPLE-RADIUS=500;X-TITLE=11\, avenue du Président Wilson:geo:2.2978208,48.8643421
END:VEVENT
END:VCALENDAR