BEGIN:VCALENDAR
VERSION:2.0
PRODID:-//Actu.Art - ECPv6.15.13//NONSGML v1.0//EN
CALSCALE:GREGORIAN
METHOD:PUBLISH
X-WR-CALNAME:Actu.Art
X-ORIGINAL-URL:https://actu.art
X-WR-CALDESC:Évènements pour Actu.Art
BEGIN:VTIMEZONE
TZID:Europe/Paris
BEGIN:DAYLIGHT
TZOFFSETFROM:+0100
TZOFFSETTO:+0200
TZNAME:CEST
DTSTART:20240331T010000
END:DAYLIGHT
BEGIN:STANDARD
TZOFFSETFROM:+0200
TZOFFSETTO:+0100
TZNAME:CET
DTSTART:20241027T010000
END:STANDARD
BEGIN:DAYLIGHT
TZOFFSETFROM:+0100
TZOFFSETTO:+0200
TZNAME:CEST
DTSTART:20250330T010000
END:DAYLIGHT
BEGIN:STANDARD
TZOFFSETFROM:+0200
TZOFFSETTO:+0100
TZNAME:CET
DTSTART:20251026T010000
END:STANDARD
BEGIN:DAYLIGHT
TZOFFSETFROM:+0100
TZOFFSETTO:+0200
TZNAME:CEST
DTSTART:20260329T010000
END:DAYLIGHT
BEGIN:STANDARD
TZOFFSETFROM:+0200
TZOFFSETTO:+0100
TZNAME:CET
DTSTART:20261025T010000
END:STANDARD
END:VTIMEZONE
BEGIN:VEVENT
DTSTART;VALUE=DATE:20250511
DTEND;VALUE=DATE:20250630
DTSTAMP:20260426T031214
CREATED:20250321T080958Z
LAST-MODIFIED:20250321T080958Z
UID:112085-1746921600-1751241599@actu.art
SUMMARY:Œuvres gravées
DESCRIPTION:Depuis 2015\, l’association l’atelier d’Akané expose des artistes graveurs et en échange ces derniers font un don d’estampe ce qui permet de constituer un fonds d’acquisition d’estampes.\nPour les 10 ans de la galerie\, outre les dons d’estampes\,  ce sont les correspondances  et l’art postal gravés qui seront exposés.\nÀ cela\, se rajoutera une collection d’estampes privée.\nAu total plus de 150 artistes ont participé à ce fonds d’acquisition.\nLeur nom sera bientôt affiché ici.
URL:https://actu.art/event/oeuvres-gravees/
LOCATION:Atelier d’Akané\, 910 ROUTE DU BREUIL\, Samer\, Pas-de-Calais\, 62830\, France
CATEGORIES:Expositions
ATTACH;FMTTYPE=image/jpeg:https://actu.art/wp-content/uploads/2025/03/uvres_gravees.jpg
GEO:50.6326391;1.7509478
X-APPLE-STRUCTURED-LOCATION;VALUE=URI;X-ADDRESS=Atelier d’Akané 910 ROUTE DU BREUIL Samer Pas-de-Calais 62830 France;X-APPLE-RADIUS=500;X-TITLE=910 ROUTE DU BREUIL:geo:1.7509478,50.6326391
END:VEVENT
END:VCALENDAR