BEGIN:VCALENDAR
VERSION:2.0
PRODID:-//Actu.Art - ECPv6.15.13//NONSGML v1.0//EN
CALSCALE:GREGORIAN
METHOD:PUBLISH
X-WR-CALNAME:Actu.Art
X-ORIGINAL-URL:https://actu.art
X-WR-CALDESC:Évènements pour Actu.Art
BEGIN:VTIMEZONE
TZID:Europe/Paris
BEGIN:DAYLIGHT
TZOFFSETFROM:+0100
TZOFFSETTO:+0200
TZNAME:CEST
DTSTART:20220327T010000
END:DAYLIGHT
BEGIN:STANDARD
TZOFFSETFROM:+0200
TZOFFSETTO:+0100
TZNAME:CET
DTSTART:20221030T010000
END:STANDARD
BEGIN:DAYLIGHT
TZOFFSETFROM:+0100
TZOFFSETTO:+0200
TZNAME:CEST
DTSTART:20230326T010000
END:DAYLIGHT
BEGIN:STANDARD
TZOFFSETFROM:+0200
TZOFFSETTO:+0100
TZNAME:CET
DTSTART:20231029T010000
END:STANDARD
BEGIN:DAYLIGHT
TZOFFSETFROM:+0100
TZOFFSETTO:+0200
TZNAME:CEST
DTSTART:20240331T010000
END:DAYLIGHT
BEGIN:STANDARD
TZOFFSETFROM:+0200
TZOFFSETTO:+0100
TZNAME:CET
DTSTART:20241027T010000
END:STANDARD
BEGIN:DAYLIGHT
TZOFFSETFROM:+0100
TZOFFSETTO:+0200
TZNAME:CEST
DTSTART:20250330T010000
END:DAYLIGHT
BEGIN:STANDARD
TZOFFSETFROM:+0200
TZOFFSETTO:+0100
TZNAME:CET
DTSTART:20251026T010000
END:STANDARD
END:VTIMEZONE
BEGIN:VEVENT
DTSTART;TZID=Europe/Paris:20230915T100000
DTEND;TZID=Europe/Paris:20240121T180000
DTSTAMP:20260421T105604
CREATED:20230101T155329Z
LAST-MODIFIED:20240104T224805Z
UID:53894-1694772000-1705860000@actu.art
SUMMARY:Nicolas de Staël
DESCRIPTION:Vingt ans après celle du Centre Pompidou\, le Musée d’art moderne de Paris programme une grande rétrospective du peintre Nicolas de Staël (1914-1955). L’institution annonce une sélection de plus de 200 tableaux\, dessins\, gravures et carnets venus de collections publiques et privées\, en Europe et aux États-Unis\, avec l’ambition de proposer un nouveau regard sur le travail de cet immense artiste.
URL:https://actu.art/event/nicolas-de-stael/
LOCATION:Musée d’Art Moderne de la ville de Paris\, 11\, avenue du Président Wilson\, Paris\, Paris\, 75116\, France
CATEGORIES:Notre Sélection
ATTACH;FMTTYPE=image/webp:https://actu.art/wp-content/uploads/2023/01/Nicolas-de-Stael-1.webp
GEO:48.8643421;2.2978208
X-APPLE-STRUCTURED-LOCATION;VALUE=URI;X-ADDRESS=Musée d’Art Moderne de la ville de Paris 11 avenue du Président Wilson Paris Paris 75116 France;X-APPLE-RADIUS=500;X-TITLE=11\, avenue du Président Wilson:geo:2.2978208,48.8643421
END:VEVENT
END:VCALENDAR