BEGIN:VCALENDAR
VERSION:2.0
PRODID:-//Actu.Art - ECPv6.15.13//NONSGML v1.0//EN
CALSCALE:GREGORIAN
METHOD:PUBLISH
X-WR-CALNAME:Actu.Art
X-ORIGINAL-URL:https://actu.art
X-WR-CALDESC:Évènements pour Actu.Art
BEGIN:VTIMEZONE
TZID:Europe/Paris
BEGIN:DAYLIGHT
TZOFFSETFROM:+0100
TZOFFSETTO:+0200
TZNAME:CEST
DTSTART:20230326T010000
END:DAYLIGHT
BEGIN:STANDARD
TZOFFSETFROM:+0200
TZOFFSETTO:+0100
TZNAME:CET
DTSTART:20231029T010000
END:STANDARD
BEGIN:DAYLIGHT
TZOFFSETFROM:+0100
TZOFFSETTO:+0200
TZNAME:CEST
DTSTART:20240331T010000
END:DAYLIGHT
BEGIN:STANDARD
TZOFFSETFROM:+0200
TZOFFSETTO:+0100
TZNAME:CET
DTSTART:20241027T010000
END:STANDARD
BEGIN:DAYLIGHT
TZOFFSETFROM:+0100
TZOFFSETTO:+0200
TZNAME:CEST
DTSTART:20250330T010000
END:DAYLIGHT
BEGIN:STANDARD
TZOFFSETFROM:+0200
TZOFFSETTO:+0100
TZNAME:CET
DTSTART:20251026T010000
END:STANDARD
END:VTIMEZONE
BEGIN:VEVENT
DTSTART;VALUE=DATE:20240531
DTEND;VALUE=DATE:20241110
DTSTAMP:20260425T022655
CREATED:20240916T111612Z
LAST-MODIFIED:20241106T205053Z
UID:98771-1717113600-1731196740@actu.art
SUMMARY:Nazanin Pouyandeh : Désobéissantes
DESCRIPTION:Après Olympe Racana-Weiler et Marlène Mocquet\, l’artiste contemporaine d’origine iranienne Nazanin Pouyandeh clôture le trio féminin de la fondation GGL avec une exposition inédite intitulée « Désobéissantes ». \nDe par son héritage culturel et son imaginaire original\, Nazanin Pouyandeh s’affirme comme une voix singulière et influente de la scène artistique française. En explorant les instincts premiers de l’humain\, la peinture dévoile à travers ses toiles une humanité largement féminine qui tient tête aux mystères du monde et s’affranchit du carcan des règles. \nInspirée par son histoire personnelle et sa lutte pour la liberté des femmes\, son œuvre met en lumière les défis qu’elle-même a dû surmonter et ses aspirations pour un monde plus juste et égalitaire\, où triomphent liberté de création et d’expression. En résulte une œuvre érudite\, dans laquelle dans une profusion jubilatoire\, s’entremêlent éléments religieux et puisés au sein de rituels païens\, figures mythologiques et appartenant à l’histoire de l’art. \nUn foisonnement précisément mis en scène\, au service d’une peinture figurative dite « réaliste » mais qui tire vers le rêve\, l’énigme\, le voyage\, au gré des multiples références culturelles que la peintre recueille durant ses voyages\, du Bénin jusqu’en Inde. \nChaque toile révèle un univers théâtral propre\, dans lequel les femmes défient normes et attentes sociales\, véritable narration picturale entre le présent l’artiste elle-même et de ses amies qu’elle choisit de représenter et le passé des toiles de l’histoire dont elle s’inspire. \nNazanin Pouyandeh\, choisit de désobéir\, à mille lieux des stéréotypes auxquels on pourrait ou voudrait raccrocher son art. A travers son exposition intitulée « Désobéissantes »\, l’artiste montre\, dans des scènes qui laissent libre cours à notre imaginaire\, des héroïnes à la force indéniable\, maîtresses de leur destinée. Des femmes au caractère affirmé\, libres\, courageuses et curieuses\, qui aiment être observées et restent détachées de tout jugement. \nLa peinture transgressive de Nazanin Pouyandeh entre en résonnance avec le combat des Iraniennes qui luttent quotidiennement\, avec grâce et fermeté\, contre la dictature religieuse et la servitude de leur corps.
URL:https://actu.art/event/nazanin-pouyandeh-desobeissantes/
LOCATION:Fondation GGL\, Hôtel Richer de Belleval\, Place de la Canourgue\, Montpellier\, Hérault\, 34000\, France
CATEGORIES:Expositions
ATTACH;FMTTYPE=image/jpeg:https://actu.art/wp-content/uploads/2024/09/Nazanin_Pouyandeh_Desobeissantes.jpg
GEO:43.6118049;3.8751091
X-APPLE-STRUCTURED-LOCATION;VALUE=URI;X-ADDRESS=Fondation GGL Hôtel Richer de Belleval Place de la Canourgue Montpellier Hérault 34000 France;X-APPLE-RADIUS=500;X-TITLE=Hôtel Richer de Belleval\, Place de la Canourgue:geo:3.8751091,43.6118049
END:VEVENT
END:VCALENDAR