BEGIN:VCALENDAR
VERSION:2.0
PRODID:-//Actu.Art - ECPv6.15.13//NONSGML v1.0//EN
CALSCALE:GREGORIAN
METHOD:PUBLISH
X-WR-CALNAME:Actu.Art
X-ORIGINAL-URL:https://actu.art
X-WR-CALDESC:Évènements pour Actu.Art
BEGIN:VTIMEZONE
TZID:Europe/Paris
BEGIN:DAYLIGHT
TZOFFSETFROM:+0100
TZOFFSETTO:+0200
TZNAME:CEST
DTSTART:20220327T010000
END:DAYLIGHT
BEGIN:STANDARD
TZOFFSETFROM:+0200
TZOFFSETTO:+0100
TZNAME:CET
DTSTART:20221030T010000
END:STANDARD
BEGIN:DAYLIGHT
TZOFFSETFROM:+0100
TZOFFSETTO:+0200
TZNAME:CEST
DTSTART:20230326T010000
END:DAYLIGHT
BEGIN:STANDARD
TZOFFSETFROM:+0200
TZOFFSETTO:+0100
TZNAME:CET
DTSTART:20231029T010000
END:STANDARD
BEGIN:DAYLIGHT
TZOFFSETFROM:+0100
TZOFFSETTO:+0200
TZNAME:CEST
DTSTART:20240331T010000
END:DAYLIGHT
BEGIN:STANDARD
TZOFFSETFROM:+0200
TZOFFSETTO:+0100
TZNAME:CET
DTSTART:20241027T010000
END:STANDARD
BEGIN:DAYLIGHT
TZOFFSETFROM:+0100
TZOFFSETTO:+0200
TZNAME:CEST
DTSTART:20250330T010000
END:DAYLIGHT
BEGIN:STANDARD
TZOFFSETFROM:+0200
TZOFFSETTO:+0100
TZNAME:CET
DTSTART:20251026T010000
END:STANDARD
END:VTIMEZONE
BEGIN:VEVENT
DTSTART;TZID=Europe/Paris:20230607T090000
DTEND;TZID=Europe/Paris:20240108T180000
DTSTAMP:20260422T175145
CREATED:20230101T155129Z
LAST-MODIFIED:20231011T212642Z
UID:53890-1686128400-1704736800@actu.art
SUMMARY:Naples à Paris
DESCRIPTION:Réaffirmant l’importance des collaborations entre les institutions muséales européennes\, le musée du Louvre a noué un partenariat avec le Museo nazionale di Capodimonte de Naples\, l’une des plus importantes pinacothèques d’Europe. Celui-ci constitue d’ailleurs l’un des seuls musées de la péninsule dont les collections présentent l’ensemble des écoles de la peinture italienne. Une soixantaine de chefs-d’œuvre du musée napolitain sera exposée au Louvre avec l’ambition de nouer un dialogue entre deux collections de peintures italiennes parmi les plus importantes au monde et de mettre en lumière la diversité des collections du Capodimonte.
URL:https://actu.art/event/naples-a-paris/
LOCATION:Musée du Louvre\, rue de Rivoli\, Paris 01\, Paris\, 75001\, France
CATEGORIES:Notre Sélection
ATTACH;FMTTYPE=image/webp:https://actu.art/wp-content/uploads/2023/01/Naples-a-Paris.webp
GEO:48.8557059;2.3589484
X-APPLE-STRUCTURED-LOCATION;VALUE=URI;X-ADDRESS=Musée du Louvre rue de Rivoli Paris 01 Paris 75001 France;X-APPLE-RADIUS=500;X-TITLE=rue de Rivoli:geo:2.3589484,48.8557059
END:VEVENT
END:VCALENDAR