BEGIN:VCALENDAR
VERSION:2.0
PRODID:-//Actu.Art - ECPv6.15.13//NONSGML v1.0//EN
CALSCALE:GREGORIAN
METHOD:PUBLISH
X-WR-CALNAME:Actu.Art
X-ORIGINAL-URL:https://actu.art
X-WR-CALDESC:Évènements pour Actu.Art
BEGIN:VTIMEZONE
TZID:Europe/Paris
BEGIN:DAYLIGHT
TZOFFSETFROM:+0100
TZOFFSETTO:+0200
TZNAME:CEST
DTSTART:20160327T010000
END:DAYLIGHT
BEGIN:STANDARD
TZOFFSETFROM:+0200
TZOFFSETTO:+0100
TZNAME:CET
DTSTART:20161030T010000
END:STANDARD
BEGIN:DAYLIGHT
TZOFFSETFROM:+0100
TZOFFSETTO:+0200
TZNAME:CEST
DTSTART:20170326T010000
END:DAYLIGHT
BEGIN:STANDARD
TZOFFSETFROM:+0200
TZOFFSETTO:+0100
TZNAME:CET
DTSTART:20171029T010000
END:STANDARD
BEGIN:DAYLIGHT
TZOFFSETFROM:+0100
TZOFFSETTO:+0200
TZNAME:CEST
DTSTART:20180325T010000
END:DAYLIGHT
BEGIN:STANDARD
TZOFFSETFROM:+0200
TZOFFSETTO:+0100
TZNAME:CET
DTSTART:20181028T010000
END:STANDARD
END:VTIMEZONE
BEGIN:VEVENT
DTSTART;TZID=Europe/Paris:20170328T080000
DTEND;TZID=Europe/Paris:20170716T170000
DTSTAMP:20260424T015314
CREATED:20170521T091325Z
LAST-MODIFIED:20210210T190523Z
UID:1348-1490688000-1500224400@actu.art
SUMMARY:Le monde selon Topor
DESCRIPTION:Créateur inlassable\, Roland Topor (1938-1997) mit son crayon au service d’un imaginaire débridé : dessins d’humour\, illustrations pour la presse et l’édition\, affiches\, films d’animation\, émissions de télévision\, décors et costumes de théâtre. Topor fut en outre l’auteur de romans\, de nouvelles\, de pièces de théâtre\, de chansons et de scénarii de films. Son oeuvre trouve son aboutissement dans l’édition\, car il considérait que son public ne devait pas se limiter aux seuls collectionneurs et amateurs d’art.\nOrganisée vingt ans après sa disparition\, cette exposition rétrospective propose de faire découvrir la variété de la production artistique de Topor. Elle mettra en vis-à-vis un grand nombre de dessins originaux\, provenant essentiellement de collections privées\, et des éditions conservées dans les fonds de la BnF.\nElle rendra ainsi hommage à l’artiste hors-norme\, au génie graphique et à l’homme d’esprit à l’humour subversif que fut Roland Topor.
URL:https://actu.art/event/monde-selon-topor/
LOCATION:Bibliothèque nationale de France – site François-Mitterrand\, 11 quai François-Mauriac\, Paris\, Paris\, 75013\, France
CATEGORIES:Notre Sélection
ATTACH;FMTTYPE=image/jpeg:https://actu.art/wp-content/uploads/2017/05/expo_monde_topor_gd.jpg
GEO:48.8327009;2.3788474
X-APPLE-STRUCTURED-LOCATION;VALUE=URI;X-ADDRESS=Bibliothèque nationale de France – site François-Mitterrand 11 quai François-Mauriac Paris Paris 75013 France;X-APPLE-RADIUS=500;X-TITLE=11 quai François-Mauriac:geo:2.3788474,48.8327009
END:VEVENT
END:VCALENDAR