BEGIN:VCALENDAR
VERSION:2.0
PRODID:-//Actu.Art - ECPv6.15.13//NONSGML v1.0//EN
CALSCALE:GREGORIAN
METHOD:PUBLISH
X-WR-CALNAME:Actu.Art
X-ORIGINAL-URL:https://actu.art
X-WR-CALDESC:Évènements pour Actu.Art
BEGIN:VTIMEZONE
TZID:Europe/Paris
BEGIN:DAYLIGHT
TZOFFSETFROM:+0100
TZOFFSETTO:+0200
TZNAME:CEST
DTSTART:20200329T010000
END:DAYLIGHT
BEGIN:STANDARD
TZOFFSETFROM:+0200
TZOFFSETTO:+0100
TZNAME:CET
DTSTART:20201025T010000
END:STANDARD
BEGIN:DAYLIGHT
TZOFFSETFROM:+0100
TZOFFSETTO:+0200
TZNAME:CEST
DTSTART:20210328T010000
END:DAYLIGHT
BEGIN:STANDARD
TZOFFSETFROM:+0200
TZOFFSETTO:+0100
TZNAME:CET
DTSTART:20211031T010000
END:STANDARD
BEGIN:DAYLIGHT
TZOFFSETFROM:+0100
TZOFFSETTO:+0200
TZNAME:CEST
DTSTART:20220327T010000
END:DAYLIGHT
BEGIN:STANDARD
TZOFFSETFROM:+0200
TZOFFSETTO:+0100
TZNAME:CET
DTSTART:20221030T010000
END:STANDARD
END:VTIMEZONE
BEGIN:VEVENT
DTSTART;TZID=Europe/Paris:20210302T093000
DTEND;TZID=Europe/Paris:20210725T180000
DTSTAMP:20260425T155817
CREATED:20200210T211609Z
LAST-MODIFIED:20210606T212746Z
UID:18546-1614677400-1627236000@actu.art
SUMMARY:Modernités Suisses (1890-1914)
DESCRIPTION:A la fin du XIXe siècle\, la scène artistique en Suisse est d’une grande vitalité. Autour de la fin des années 1890\, s’affirme une génération de peintres\, tels que Cuno Amiet\, Giovanni et Augusto Giacometti\, Felix Vallotton\, ou encore Ernest Bieler ou Max Buri\, qui renouvellent profondément l’art de leur temps.
URL:https://actu.art/event/modernites-suisses-1890-1914/
LOCATION:Musée d’Orsay\, Esplanade Valéry Giscard d'Estaing\, Paris\, Paris\, 75007\, France
CATEGORIES:Notre Sélection
ATTACH;FMTTYPE=image/jpeg:https://actu.art/wp-content/uploads/2020/02/Modernités-Suisses-1890-1914.jpg
GEO:48.8601715;2.326074
X-APPLE-STRUCTURED-LOCATION;VALUE=URI;X-ADDRESS=Musée d’Orsay Esplanade Valéry Giscard d'Estaing Paris Paris 75007 France;X-APPLE-RADIUS=500;X-TITLE=Esplanade Valéry Giscard d'Estaing:geo:2.326074,48.8601715
END:VEVENT
END:VCALENDAR