BEGIN:VCALENDAR
VERSION:2.0
PRODID:-//Actu.Art - ECPv6.15.13//NONSGML v1.0//EN
CALSCALE:GREGORIAN
METHOD:PUBLISH
X-WR-CALNAME:Actu.Art
X-ORIGINAL-URL:https://actu.art
X-WR-CALDESC:Évènements pour Actu.Art
BEGIN:VTIMEZONE
TZID:Europe/Paris
BEGIN:DAYLIGHT
TZOFFSETFROM:+0100
TZOFFSETTO:+0200
TZNAME:CEST
DTSTART:20210328T010000
END:DAYLIGHT
BEGIN:STANDARD
TZOFFSETFROM:+0200
TZOFFSETTO:+0100
TZNAME:CET
DTSTART:20211031T010000
END:STANDARD
BEGIN:DAYLIGHT
TZOFFSETFROM:+0100
TZOFFSETTO:+0200
TZNAME:CEST
DTSTART:20220327T010000
END:DAYLIGHT
BEGIN:STANDARD
TZOFFSETFROM:+0200
TZOFFSETTO:+0100
TZNAME:CET
DTSTART:20221030T010000
END:STANDARD
BEGIN:DAYLIGHT
TZOFFSETFROM:+0100
TZOFFSETTO:+0200
TZNAME:CEST
DTSTART:20230326T010000
END:DAYLIGHT
BEGIN:STANDARD
TZOFFSETFROM:+0200
TZOFFSETTO:+0100
TZNAME:CET
DTSTART:20231029T010000
END:STANDARD
BEGIN:DAYLIGHT
TZOFFSETFROM:+0100
TZOFFSETTO:+0200
TZNAME:CEST
DTSTART:20240331T010000
END:DAYLIGHT
BEGIN:STANDARD
TZOFFSETFROM:+0200
TZOFFSETTO:+0100
TZNAME:CET
DTSTART:20241027T010000
END:STANDARD
END:VTIMEZONE
BEGIN:VEVENT
DTSTART;VALUE=DATE:20220914
DTEND;VALUE=DATE:20230116
DTSTAMP:20260424T015738
CREATED:20220710T113921Z
LAST-MODIFIED:20220909T113214Z
UID:46324-1663113600-1673827199@actu.art
SUMMARY:Miroir du Monde
DESCRIPTION:L’exposition du Musée du Luxembourg réunit une centaine d’œuvres et objets exceptionnels collectés entre le XVIe et le XVIIIe siècle par les puissants Princes électeurs de Saxe. Dans la période marquée par la lutte pour le pouvoir impérial entre les Électorats du Saint Empire romain germanique et les cours européennes\, cette collection éclatante de richesse montre le pouvoir politique du Prince électeur. Composée d’objets d’art\, d’instruments et de livres scientifiques\, de matériaux naturels et d’objets ethnographiques\, la Kunstkammer ou « cabinet d’art » fut la première collection d’Europe à ouvrir ses portes au grand public qui la considérait comme un lieu de savoir et d’éducation. Dans cette exposition\, l’accent est mis sur la qualité artistique et la provenance des œuvres reflétant les multiples relations mondiales et les échanges culturels mais aussi sur la vision du monde euro centrique qu’elles incarnent. Quelques objets historiques sont placés en miroir d’œuvres d’artistes contemporains\, mettant en perspective ces collections historiques avec les enjeux de notre époque.
URL:https://actu.art/event/miroir-du-monde/
LOCATION:Musée du Luxembourg\, 19 Rue de Vaugirard\, Paris\, Paris\, 75006\, France
CATEGORIES:Notre Sélection
ATTACH;FMTTYPE=image/jpeg:https://actu.art/wp-content/uploads/2022/07/Miroir-du-Monde-1.jpg
GEO:48.848440245683;2.3340529203415
X-APPLE-STRUCTURED-LOCATION;VALUE=URI;X-ADDRESS=Musée du Luxembourg 19 Rue de Vaugirard Paris Paris 75006 France;X-APPLE-RADIUS=500;X-TITLE=19 Rue de Vaugirard:geo:2.3340529203415,48.848440245683
END:VEVENT
END:VCALENDAR