BEGIN:VCALENDAR
VERSION:2.0
PRODID:-//Actu.Art - ECPv6.15.13//NONSGML v1.0//EN
CALSCALE:GREGORIAN
METHOD:PUBLISH
X-WR-CALNAME:Actu.Art
X-ORIGINAL-URL:https://actu.art
X-WR-CALDESC:Évènements pour Actu.Art
BEGIN:VTIMEZONE
TZID:Europe/Paris
BEGIN:DAYLIGHT
TZOFFSETFROM:+0100
TZOFFSETTO:+0200
TZNAME:CEST
DTSTART:20210328T010000
END:DAYLIGHT
BEGIN:STANDARD
TZOFFSETFROM:+0200
TZOFFSETTO:+0100
TZNAME:CET
DTSTART:20211031T010000
END:STANDARD
BEGIN:DAYLIGHT
TZOFFSETFROM:+0100
TZOFFSETTO:+0200
TZNAME:CEST
DTSTART:20220327T010000
END:DAYLIGHT
BEGIN:STANDARD
TZOFFSETFROM:+0200
TZOFFSETTO:+0100
TZNAME:CET
DTSTART:20221030T010000
END:STANDARD
BEGIN:DAYLIGHT
TZOFFSETFROM:+0100
TZOFFSETTO:+0200
TZNAME:CEST
DTSTART:20230326T010000
END:DAYLIGHT
BEGIN:STANDARD
TZOFFSETFROM:+0200
TZOFFSETTO:+0100
TZNAME:CET
DTSTART:20231029T010000
END:STANDARD
END:VTIMEZONE
BEGIN:VEVENT
DTSTART;VALUE=DATE:20220703
DTEND;VALUE=DATE:20221107
DTSTAMP:20260424T055455
CREATED:20220519T205437Z
LAST-MODIFIED:20221105T231946Z
UID:45596-1656806400-1667779199@actu.art
SUMMARY:Mirdidinkingathi Juwarnda Sally Gabori
DESCRIPTION:En quelques années de création (2004-2015)\, Sally Gabori produit une œuvre sans attache apparente avec d’autres courants esthétiques\, notamment au sein de la peinture aborigène contemporaine. Le parcours d’exposition\, qui réunit une trentaine de peintures monumentales\, met en lumière une artiste dont l’œuvre fascine par son caractère spontané\, lumineux et original.
URL:https://actu.art/event/mirdidinkingathi-juwarnda-sally-gabori/
LOCATION:Fondation Cartier pour l’Art Contemporain\, 261 boulevard Raspail\, Paris 14\, Paris\, 75014\, France
CATEGORIES:Notre Sélection
ATTACH;FMTTYPE=image/jpeg:https://actu.art/wp-content/uploads/2022/05/Mirdidingkingathi-Juwarnda-Sally-Gabori.jpg
GEO:48.8373272;2.3319728
X-APPLE-STRUCTURED-LOCATION;VALUE=URI;X-ADDRESS=Fondation Cartier pour l’Art Contemporain 261 boulevard Raspail Paris 14 Paris 75014 France;X-APPLE-RADIUS=500;X-TITLE=261 boulevard Raspail:geo:2.3319728,48.8373272
END:VEVENT
END:VCALENDAR