BEGIN:VCALENDAR
VERSION:2.0
PRODID:-//Actu.Art - ECPv6.15.13//NONSGML v1.0//EN
CALSCALE:GREGORIAN
METHOD:PUBLISH
X-WR-CALNAME:Actu.Art
X-ORIGINAL-URL:https://actu.art
X-WR-CALDESC:Évènements pour Actu.Art
BEGIN:VTIMEZONE
TZID:Europe/Paris
BEGIN:DAYLIGHT
TZOFFSETFROM:+0100
TZOFFSETTO:+0200
TZNAME:CEST
DTSTART:20250330T010000
END:DAYLIGHT
BEGIN:STANDARD
TZOFFSETFROM:+0200
TZOFFSETTO:+0100
TZNAME:CET
DTSTART:20251026T010000
END:STANDARD
BEGIN:DAYLIGHT
TZOFFSETFROM:+0100
TZOFFSETTO:+0200
TZNAME:CEST
DTSTART:20260329T010000
END:DAYLIGHT
BEGIN:STANDARD
TZOFFSETFROM:+0200
TZOFFSETTO:+0100
TZNAME:CET
DTSTART:20261025T010000
END:STANDARD
BEGIN:DAYLIGHT
TZOFFSETFROM:+0100
TZOFFSETTO:+0200
TZNAME:CEST
DTSTART:20270328T010000
END:DAYLIGHT
BEGIN:STANDARD
TZOFFSETFROM:+0200
TZOFFSETTO:+0100
TZNAME:CET
DTSTART:20271031T010000
END:STANDARD
END:VTIMEZONE
BEGIN:VEVENT
DTSTART;TZID=Europe/Paris:20260213T100000
DTEND;TZID=Europe/Paris:20260215T180000
DTSTAMP:20260424T053048
CREATED:20260205T190028Z
LAST-MODIFIED:20260205T190028Z
UID:138022-1770976800-1771178400@actu.art
SUMMARY:Metz Art Galerie
DESCRIPTION:Metz Art Galerie s’affirme comme une foire d’art contemporain qui souhaite rompre avec l’image élitiste souvent associée au secteur. Sa philosophie repose sur une idée simple : l’art doit être un espace de rencontre\, de partage et de découverte\, non un territoire réservé aux initiés. Ici\, le rapport à l’œuvre se fait sans détour\, dans une approche sensible et accompagnée. Les galeristes jouent un rôle essentiel en facilitant le dialogue\, en apportant des clés de lecture et en encourageant la curiosité. En revendiquant un rôle pédagogique — apprendre à regarder\, éveiller l’intérêt\, ouvrir les horizons — Metz Art Galerie cherche à créer un lieu où chacun peut trouver sa place\, quel que soit son niveau de familiarité avec la création contemporaine.
URL:https://actu.art/event/metz-art-galerie/
LOCATION:Metz Congrès Robert Schuman\, 100 Rue aux Arènes\, Metz\, 57000
CATEGORIES:Marchés de l'Art/Salons
ATTACH;FMTTYPE=image/jpeg:https://actu.art/wp-content/uploads/2026/02/Metz-Art-Galerie.jpg
GEO:49.1086415;6.179947
X-APPLE-STRUCTURED-LOCATION;VALUE=URI;X-ADDRESS=Metz Congrès Robert Schuman 100 Rue aux Arènes Metz 57000;X-APPLE-RADIUS=500;X-TITLE=100 Rue aux Arènes:geo:6.179947,49.1086415
END:VEVENT
END:VCALENDAR