BEGIN:VCALENDAR
VERSION:2.0
PRODID:-//Actu.Art - ECPv6.15.13//NONSGML v1.0//EN
CALSCALE:GREGORIAN
METHOD:PUBLISH
X-WR-CALNAME:Actu.Art
X-ORIGINAL-URL:https://actu.art
X-WR-CALDESC:Évènements pour Actu.Art
BEGIN:VTIMEZONE
TZID:Europe/Paris
BEGIN:DAYLIGHT
TZOFFSETFROM:+0100
TZOFFSETTO:+0200
TZNAME:CEST
DTSTART:20250330T010000
END:DAYLIGHT
BEGIN:STANDARD
TZOFFSETFROM:+0200
TZOFFSETTO:+0100
TZNAME:CET
DTSTART:20251026T010000
END:STANDARD
BEGIN:DAYLIGHT
TZOFFSETFROM:+0100
TZOFFSETTO:+0200
TZNAME:CEST
DTSTART:20260329T010000
END:DAYLIGHT
BEGIN:STANDARD
TZOFFSETFROM:+0200
TZOFFSETTO:+0100
TZNAME:CET
DTSTART:20261025T010000
END:STANDARD
BEGIN:DAYLIGHT
TZOFFSETFROM:+0100
TZOFFSETTO:+0200
TZNAME:CEST
DTSTART:20270328T010000
END:DAYLIGHT
BEGIN:STANDARD
TZOFFSETFROM:+0200
TZOFFSETTO:+0100
TZNAME:CET
DTSTART:20271031T010000
END:STANDARD
END:VTIMEZONE
BEGIN:VEVENT
DTSTART;TZID=Europe/Paris:20260326T100000
DTEND;TZID=Europe/Paris:20260621T180000
DTSTAMP:20260423T012322
CREATED:20260421T212455Z
LAST-MODIFIED:20260421T212455Z
UID:144205-1774519200-1782064800@actu.art
SUMMARY:Mesterou - Milcovitch : Deux artistes cinétiques
DESCRIPTION:Une exposition du cabinet d’arts graphiques.\nLe couple d’artistes Mircea Milcovitch et Maria Mesterou s’inspire des formes pures de la nature et des formes géométriques parfaites dans une recherche d’expression des traces d’une essence divine. Cette quête prend forme dans une esthétique cinétique\, qu’ils ont notamment explorée dans leurs sérigraphies des années 1970.  \nArrivés à Paris à cette époque après avoir fui le régime communiste roumain\, ils font la rencontre de François Paul-Cavallier. Éditeur d’art au sein de sa propre maison\, les Éditions de la Tortue\, il assure la diffusion et la commercialisation de leurs œuvres. Il a récemment donné au musée quelques 750 œuvres d’arts graphiques\, essentiellement des dessins et des estampes.\nLa présentation d’une sélection d’œuvres du couple Mesterou – Milcovitch inaugure une série d’expositions proposées au musée autour de cette importante donation.
URL:https://actu.art/event/mesterou-milcovitch-deux-artistes-cinetiques/
LOCATION:Musée des Beaux-Arts de Nancy\, 3\, place Stanislas\, Nancy\, Meurthe-et-Moselle\, 54000\, France
CATEGORIES:Expositions Temporaires
ATTACH;FMTTYPE=image/jpeg:https://actu.art/wp-content/uploads/2026/04/Mesterou_Milcovitch_Deux_artistes_cinetiques.jpg
GEO:48.693703;6.1816914
X-APPLE-STRUCTURED-LOCATION;VALUE=URI;X-ADDRESS=Musée des Beaux-Arts de Nancy 3 place Stanislas Nancy Meurthe-et-Moselle 54000 France;X-APPLE-RADIUS=500;X-TITLE=3\, place Stanislas:geo:6.1816914,48.693703
END:VEVENT
END:VCALENDAR