BEGIN:VCALENDAR
VERSION:2.0
PRODID:-//Actu.Art - ECPv6.15.13//NONSGML v1.0//EN
CALSCALE:GREGORIAN
METHOD:PUBLISH
X-WR-CALNAME:Actu.Art
X-ORIGINAL-URL:https://actu.art
X-WR-CALDESC:Évènements pour Actu.Art
BEGIN:VTIMEZONE
TZID:Europe/Paris
BEGIN:DAYLIGHT
TZOFFSETFROM:+0100
TZOFFSETTO:+0200
TZNAME:CEST
DTSTART:20240331T010000
END:DAYLIGHT
BEGIN:STANDARD
TZOFFSETFROM:+0200
TZOFFSETTO:+0100
TZNAME:CET
DTSTART:20241027T010000
END:STANDARD
BEGIN:DAYLIGHT
TZOFFSETFROM:+0100
TZOFFSETTO:+0200
TZNAME:CEST
DTSTART:20250330T010000
END:DAYLIGHT
BEGIN:STANDARD
TZOFFSETFROM:+0200
TZOFFSETTO:+0100
TZNAME:CET
DTSTART:20251026T010000
END:STANDARD
BEGIN:DAYLIGHT
TZOFFSETFROM:+0100
TZOFFSETTO:+0200
TZNAME:CEST
DTSTART:20260329T010000
END:DAYLIGHT
BEGIN:STANDARD
TZOFFSETFROM:+0200
TZOFFSETTO:+0100
TZNAME:CET
DTSTART:20261025T010000
END:STANDARD
END:VTIMEZONE
BEGIN:VEVENT
DTSTART;TZID=Europe/Paris:20250602T083000
DTEND;TZID=Europe/Paris:20250628T190000
DTSTAMP:20260422T115813
CREATED:20250507T204156Z
LAST-MODIFIED:20250507T204156Z
UID:117230-1748853000-1751137200@actu.art
SUMMARY:Mémoire et Identité – Exposition d’Alexandra Chauchereau
DESCRIPTION:L’exposition d’Alexandra Chauchereau nous invite à un voyage intime et universel à travers la mémoire et l’identité. Ses œuvres\, nourries par des archives familiales\, ne sont pas de simples portraits : elles capturent des fragments de vie\, des regards empreints d’histoire\, des émotions suspendues entre passé et présent. \n\nChaque toile est une exploration de l’âme humaine\, où l’individu devient le reflet d’une mémoire collective. En confrontant ses souvenirs à ceux des autres\, l’artiste révèle ce qui nous relie au-delà des générations et des origines. La douceur de son trait\, la profondeur de ses compositions et la sensibilité de sa palette traduisent avec justesse la fragilité du temps qui passe et la force des liens qui nous unissent. \n\nÀ travers cette exposition\, Alexandra Chauchereau nous offre un moment de contemplation et de réflexion : comment notre propre histoire s’inscrit-elle dans celle des autres ? Un hommage délicat à la mémoire\, à la transmission et à l’humanité que nous partageons.
URL:https://actu.art/event/memoire-et-identite-exposition-dalexandra-chauchereau/
LOCATION:Atelier Pièce Unique\, 1 place du Lavoir (angle rue aux Oies et Mal Foch)\, Fourqueux\, Yvelines\, 78112\, France
CATEGORIES:Expositions Galeries
GEO:48.8872452;2.0634689
X-APPLE-STRUCTURED-LOCATION;VALUE=URI;X-ADDRESS=Atelier Pièce Unique 1 place du Lavoir (angle rue aux Oies et Mal Foch) Fourqueux Yvelines 78112 France;X-APPLE-RADIUS=500;X-TITLE=1 place du Lavoir (angle rue aux Oies et Mal Foch):geo:2.0634689,48.8872452
END:VEVENT
END:VCALENDAR