BEGIN:VCALENDAR
VERSION:2.0
PRODID:-//Actu.Art - ECPv6.15.13//NONSGML v1.0//EN
CALSCALE:GREGORIAN
METHOD:PUBLISH
X-WR-CALNAME:Actu.Art
X-ORIGINAL-URL:https://actu.art
X-WR-CALDESC:Évènements pour Actu.Art
BEGIN:VTIMEZONE
TZID:Europe/Paris
BEGIN:DAYLIGHT
TZOFFSETFROM:+0100
TZOFFSETTO:+0200
TZNAME:CEST
DTSTART:20210328T010000
END:DAYLIGHT
BEGIN:STANDARD
TZOFFSETFROM:+0200
TZOFFSETTO:+0100
TZNAME:CET
DTSTART:20211031T010000
END:STANDARD
BEGIN:DAYLIGHT
TZOFFSETFROM:+0100
TZOFFSETTO:+0200
TZNAME:CEST
DTSTART:20220327T010000
END:DAYLIGHT
BEGIN:STANDARD
TZOFFSETFROM:+0200
TZOFFSETTO:+0100
TZNAME:CET
DTSTART:20221030T010000
END:STANDARD
BEGIN:DAYLIGHT
TZOFFSETFROM:+0100
TZOFFSETTO:+0200
TZNAME:CEST
DTSTART:20230326T010000
END:DAYLIGHT
BEGIN:STANDARD
TZOFFSETFROM:+0200
TZOFFSETTO:+0100
TZNAME:CET
DTSTART:20231029T010000
END:STANDARD
END:VTIMEZONE
BEGIN:VEVENT
DTSTART;TZID=Europe/Paris:20220416T080000
DTEND;TZID=Europe/Paris:20221231T170000
DTSTAMP:20260424T043720
CREATED:20220813T201306Z
LAST-MODIFIED:20220813T201306Z
UID:50459-1650096000-1672506000@actu.art
SUMMARY:Maya Ruiz\, Fille de Pablo
DESCRIPTION:María de la Concepción\, surnommée Maya\, naît le 5 septembre 1935. Elle est la première fille de Pablo Picasso et de Marie-Thérèse Walter. L’arrivée de cette enfant est un bouleversement dans la vie de Picasso. L’exposition « Maya Ruiz-Picasso\, fille de Pablo » propose de relire une partie de la production de l’artiste sous le prisme de ce rapport filial. Un ensemble exceptionnel de portraits peints consacrés à la fillette\, mais aussi une importante sélection de sculptures\, d’œuvres graphiques\, de photographies et de documents d’archives raconte ce volet personnel de l’histoire familiale de Picasso. Il souligne la manière dont la présence de Maya a nourri et amplifié l’intérêt de l’artiste pour le thème de l’enfance.
URL:https://actu.art/event/maya-ruiz-fille-de-pablo/
LOCATION:Musée Picasso\, Hôtel Salé - 5\, rue Thorigny\, Paris\, Paris\, 75003\, France
CATEGORIES:Notre Sélection
ATTACH;FMTTYPE=image/jpeg:https://actu.art/wp-content/uploads/2022/08/Maya-Ruiz-Fille-de-Pablo.jpg
GEO:48.8598774;2.3622849
X-APPLE-STRUCTURED-LOCATION;VALUE=URI;X-ADDRESS=Musée Picasso Hôtel Salé - 5 rue Thorigny Paris Paris 75003 France;X-APPLE-RADIUS=500;X-TITLE=Hôtel Salé - 5\, rue Thorigny:geo:2.3622849,48.8598774
END:VEVENT
END:VCALENDAR