BEGIN:VCALENDAR
VERSION:2.0
PRODID:-//Actu.Art - ECPv6.15.13//NONSGML v1.0//EN
CALSCALE:GREGORIAN
METHOD:PUBLISH
X-WR-CALNAME:Actu.Art
X-ORIGINAL-URL:https://actu.art
X-WR-CALDESC:Évènements pour Actu.Art
BEGIN:VTIMEZONE
TZID:Europe/Paris
BEGIN:DAYLIGHT
TZOFFSETFROM:+0100
TZOFFSETTO:+0200
TZNAME:CEST
DTSTART:20220327T010000
END:DAYLIGHT
BEGIN:STANDARD
TZOFFSETFROM:+0200
TZOFFSETTO:+0100
TZNAME:CET
DTSTART:20221030T010000
END:STANDARD
BEGIN:DAYLIGHT
TZOFFSETFROM:+0100
TZOFFSETTO:+0200
TZNAME:CEST
DTSTART:20230326T010000
END:DAYLIGHT
BEGIN:STANDARD
TZOFFSETFROM:+0200
TZOFFSETTO:+0100
TZNAME:CET
DTSTART:20231029T010000
END:STANDARD
BEGIN:DAYLIGHT
TZOFFSETFROM:+0100
TZOFFSETTO:+0200
TZNAME:CEST
DTSTART:20240331T010000
END:DAYLIGHT
BEGIN:STANDARD
TZOFFSETFROM:+0200
TZOFFSETTO:+0100
TZNAME:CET
DTSTART:20241027T010000
END:STANDARD
END:VTIMEZONE
BEGIN:VEVENT
DTSTART;TZID=Europe/Paris:20230301T090000
DTEND;TZID=Europe/Paris:20230529T180000
DTSTAMP:20260423T055158
CREATED:20230101T154854Z
LAST-MODIFIED:20230305T205211Z
UID:53885-1677661200-1685383200@actu.art
SUMMARY:Matisse. Cahiers d’art\, le tournant des années 30
DESCRIPTION:Les expositions sur Matisse sont foisonnantes. Parmi celles qui ont abordé les différentes périodes de sa carrière\, très peu se sont penchées spécifiquement sur les années 1930. « Matisse. Cahiers d’art\, le tournant des années 1930 » se consacre exclusivement à cette décennie.\nEn 1930\, Matisse quitte la France pour un voyage à Tahiti\, marquant ainsi volontairement une pause dans sa création\, et engageant un tournant dans son œuvre. L’exposition « Matisse. Cahiers d’art\, le tournant des années 1930 » revient sur cette décennie décisive. C’est à travers le prisme de Cahiers d’art\, grande revue d’avant-garde créée par Christian Zervos en 1926\, que l’exposition aborde l’œuvre de Matisse dans les années 1930. Porte-voix du modernisme international et des courants esthétiques de son temps\, la revue rend compte de la production de l’artiste tout au long de l’entre-deux-guerres. \nL’exposition\, qui réunit un ensemble d’œuvres de cette période\, propose d’en cerner les enjeux majeurs. Écarté de l’actualité artistique au cours des années 20\, le travail du peintre revient au cœur des débats d’idées et des réflexions de l’époque\, par le biais des publications régulières dans Cahiers d’Art\, lesquelles mettent en lumière sa peinture d’avant 1916 – en particulier la plus radicale – et rendent compte de sa production en cours. Articles et reproductions des œuvres de Matisse contribuent à relancer la compétition avec Picasso. Dans les numéros successifs de la revue\, Matisse figure aux côtés des artistes de son temps : Georges Braque\, Juan Miro\, Fernand Léger\, Vassily Kandinsky\, Mondrian\, Le Corbusier ou Marcel Duchamp. \nPlusieurs œuvres exceptionnelles\, très rarement exposées en France\, sont réunies à l’occasion de cette exposition\, notamment Le Grand nu couché de Baltimore\, Le Chant de Houston ou encore la série des Blouses roumaines de 1938 conservées dans différents musées américains. La densité et la complexité de cette décennie sont suggérées par des sculptures\, des objets de la collection de Matisse\, des dessins\, des gravures\, des peintures mais aussi des tirages récents d’états photographiques\, des archives\, des fragments de films et des numéros de Cahiers d’art. \nCe projet a bénéficié du soutien déterminant de Cahiers d’Art et des Archives Matisse. \nCette exposition est organisée avec le Philadelphie Museum of Art et le Musée Matisse à Nice. \nCrédits : Musée de l’Orangerie
URL:https://actu.art/event/matisse-cahiers-dart-le-tournant-des-annees-30/
LOCATION:Musée de l’Orangerie\, place de la Concorde Jardin des Tuileries\, Paris 01\, Paris\, 75001\, France
CATEGORIES:Notre Sélection
ATTACH;FMTTYPE=image/webp:https://actu.art/wp-content/uploads/2023/01/Matisse-annees-30.webp
GEO:48.8637952;2.3252006
X-APPLE-STRUCTURED-LOCATION;VALUE=URI;X-ADDRESS=Musée de l’Orangerie place de la Concorde Jardin des Tuileries Paris 01 Paris 75001 France;X-APPLE-RADIUS=500;X-TITLE=place de la Concorde Jardin des Tuileries:geo:2.3252006,48.8637952
END:VEVENT
END:VCALENDAR