BEGIN:VCALENDAR
VERSION:2.0
PRODID:-//Actu.Art - ECPv6.15.13//NONSGML v1.0//EN
CALSCALE:GREGORIAN
METHOD:PUBLISH
X-WR-CALNAME:Actu.Art
X-ORIGINAL-URL:https://actu.art
X-WR-CALDESC:Évènements pour Actu.Art
BEGIN:VTIMEZONE
TZID:Europe/Paris
BEGIN:DAYLIGHT
TZOFFSETFROM:+0100
TZOFFSETTO:+0200
TZNAME:CEST
DTSTART:20230326T010000
END:DAYLIGHT
BEGIN:STANDARD
TZOFFSETFROM:+0200
TZOFFSETTO:+0100
TZNAME:CET
DTSTART:20231029T010000
END:STANDARD
BEGIN:DAYLIGHT
TZOFFSETFROM:+0100
TZOFFSETTO:+0200
TZNAME:CEST
DTSTART:20240331T010000
END:DAYLIGHT
BEGIN:STANDARD
TZOFFSETFROM:+0200
TZOFFSETTO:+0100
TZNAME:CET
DTSTART:20241027T010000
END:STANDARD
BEGIN:DAYLIGHT
TZOFFSETFROM:+0100
TZOFFSETTO:+0200
TZNAME:CEST
DTSTART:20250330T010000
END:DAYLIGHT
BEGIN:STANDARD
TZOFFSETFROM:+0200
TZOFFSETTO:+0100
TZNAME:CET
DTSTART:20251026T010000
END:STANDARD
END:VTIMEZONE
BEGIN:VEVENT
DTSTART;TZID=Europe/Paris:20240329T110000
DTEND;TZID=Europe/Paris:20241111T180000
DTSTAMP:20260423T053010
CREATED:20240718T165306Z
LAST-MODIFIED:20240718T202833Z
UID:94047-1711710000-1731348000@actu.art
SUMMARY:Marie Talbot (1814 – 1874)
DESCRIPTION:À l’occasion du 150e anniversaire de la disparition de Marie Talbot (1814-1874)\, le musée de La Borne organise une exposition monographique consacrée à l’artiste-potière.\nPrès de 80 céramiques illustreront son œuvre magistrale. Cet ensemble qui réunit principalement des pièces inédites\, provenant de collections privées et publiques\, sera dévoilé au public du 30 mars au 11 novembre 2024.\nLe mystère autour de la vie de Marie Talbot (1814-1874) renforce l’intérêt porté à la redécouverte de son œuvre. En réalisant dès 1837 des fontaines-femmes qu’elle signe fait par moi Marie Talbot\, la potière affirme une posture artistique et sociale inédite. Pour accompagner l’exposition\, le musée de La Borne publie la première monographie dédiée à l’artiste. Dans cet ouvrage\, l’auteur du livre\, Renaud Régnier\, met en lumière la plus large sélection de ses œuvres et retrace sa vie à travers des pièces majeures.
URL:https://actu.art/event/marie-talbot-1814-1874/
LOCATION:Musée de La Borne\, La Borne d'en Bas\, Henrichemont\, Cher\, 18250\, France
CATEGORIES:Expositions Temporaires
ATTACH;FMTTYPE=image/webp:https://actu.art/wp-content/uploads/2024/07/Marie_Talbot_1814_1874_.webp
GEO:47.2834177;2.5749394
X-APPLE-STRUCTURED-LOCATION;VALUE=URI;X-ADDRESS=Musée de La Borne La Borne d'en Bas Henrichemont Cher 18250 France;X-APPLE-RADIUS=500;X-TITLE=La Borne d'en Bas:geo:2.5749394,47.2834177
END:VEVENT
END:VCALENDAR