BEGIN:VCALENDAR
VERSION:2.0
PRODID:-//Actu.Art - ECPv6.15.13//NONSGML v1.0//EN
CALSCALE:GREGORIAN
METHOD:PUBLISH
X-WR-CALNAME:Actu.Art
X-ORIGINAL-URL:https://actu.art
X-WR-CALDESC:Évènements pour Actu.Art
BEGIN:VTIMEZONE
TZID:Europe/Paris
BEGIN:DAYLIGHT
TZOFFSETFROM:+0100
TZOFFSETTO:+0200
TZNAME:CEST
DTSTART:20240331T010000
END:DAYLIGHT
BEGIN:STANDARD
TZOFFSETFROM:+0200
TZOFFSETTO:+0100
TZNAME:CET
DTSTART:20241027T010000
END:STANDARD
BEGIN:DAYLIGHT
TZOFFSETFROM:+0100
TZOFFSETTO:+0200
TZNAME:CEST
DTSTART:20250330T010000
END:DAYLIGHT
BEGIN:STANDARD
TZOFFSETFROM:+0200
TZOFFSETTO:+0100
TZNAME:CET
DTSTART:20251026T010000
END:STANDARD
BEGIN:DAYLIGHT
TZOFFSETFROM:+0100
TZOFFSETTO:+0200
TZNAME:CEST
DTSTART:20260329T010000
END:DAYLIGHT
BEGIN:STANDARD
TZOFFSETFROM:+0200
TZOFFSETTO:+0100
TZNAME:CET
DTSTART:20261025T010000
END:STANDARD
END:VTIMEZONE
BEGIN:VEVENT
DTSTART;TZID=Europe/Paris:20251206T000000
DTEND;TZID=Europe/Paris:20251207T235900
DTSTAMP:20260424T062133
CREATED:20251118T135311Z
LAST-MODIFIED:20251118T135311Z
UID:133522-1764979200-1765151940@actu.art
SUMMARY:Marché de Noël artistique
DESCRIPTION:Samedi 6 et dimanche 7 décembre de 10 à 19 h\nAtelier Didier BONNOT\, 20 rue François Boucher à Versailles\nAu programme:\nLucile BOLOT: céramiques\, porcelaines et bijoux.\nBONNOT-BOLOT: A cette occasion\, nous présenterons notre nouvelle collaboration de porcelaine peinte.\nMarie ARNAUD : sacs et lampes\nAtelier MO\, verre et bijoux\nPETITES CÉRAM’\, céramique poétique\nMAHAMADOU TRAORÉ alias alvastudio7: A l’occasion de la sortie de son livre « les super héros du football » reliant les univers des super héros Marvel aux grands footballeurs par l’illustration et le texte\, Mahamadou propose une signature de son livre et l’exposition de quelques planches originales.\nMARIANNE TRICOT\, présentera son livre artistique « petit bois » et quelques planches de son travail.\nDidier BONNOT: peinture et objets dérivés
URL:https://actu.art/event/marche-de-noel-artistique/
LOCATION:Atelier Didier BONNOT\, 20 rue François Boucher\, Versailles\, Yvelines\, 78000\, France
CATEGORIES:Expo Vente
ATTACH;FMTTYPE=image/jpeg:https://actu.art/wp-content/uploads/2025/11/Marche_de_Noel_artistique.jpg
GEO:48.8055357;2.159335
X-APPLE-STRUCTURED-LOCATION;VALUE=URI;X-ADDRESS=Atelier Didier BONNOT 20 rue François Boucher Versailles Yvelines 78000 France;X-APPLE-RADIUS=500;X-TITLE=20 rue François Boucher:geo:2.159335,48.8055357
END:VEVENT
END:VCALENDAR