BEGIN:VCALENDAR
VERSION:2.0
PRODID:-//Actu.Art - ECPv6.15.13//NONSGML v1.0//EN
CALSCALE:GREGORIAN
METHOD:PUBLISH
X-WR-CALNAME:Actu.Art
X-ORIGINAL-URL:https://actu.art
X-WR-CALDESC:Évènements pour Actu.Art
BEGIN:VTIMEZONE
TZID:Europe/Paris
BEGIN:DAYLIGHT
TZOFFSETFROM:+0100
TZOFFSETTO:+0200
TZNAME:CEST
DTSTART:20200329T010000
END:DAYLIGHT
BEGIN:STANDARD
TZOFFSETFROM:+0200
TZOFFSETTO:+0100
TZNAME:CET
DTSTART:20201025T010000
END:STANDARD
BEGIN:DAYLIGHT
TZOFFSETFROM:+0100
TZOFFSETTO:+0200
TZNAME:CEST
DTSTART:20210328T010000
END:DAYLIGHT
BEGIN:STANDARD
TZOFFSETFROM:+0200
TZOFFSETTO:+0100
TZNAME:CET
DTSTART:20211031T010000
END:STANDARD
BEGIN:DAYLIGHT
TZOFFSETFROM:+0100
TZOFFSETTO:+0200
TZNAME:CEST
DTSTART:20220327T010000
END:DAYLIGHT
BEGIN:STANDARD
TZOFFSETFROM:+0200
TZOFFSETTO:+0100
TZNAME:CET
DTSTART:20221030T010000
END:STANDARD
BEGIN:DAYLIGHT
TZOFFSETFROM:+0100
TZOFFSETTO:+0200
TZNAME:CEST
DTSTART:20230326T010000
END:DAYLIGHT
BEGIN:STANDARD
TZOFFSETFROM:+0200
TZOFFSETTO:+0100
TZNAME:CET
DTSTART:20231029T010000
END:STANDARD
END:VTIMEZONE
BEGIN:VEVENT
DTSTART;TZID=Europe/Paris:20210921T100000
DTEND;TZID=Europe/Paris:20220102T180000
DTSTAMP:20260425T133129
CREATED:20210712T213314Z
LAST-MODIFIED:20211002T200601Z
UID:34307-1632218400-1641146400@actu.art
SUMMARY:Lumières du Liban - Art moderne et contemporain de 1950 à aujourd'hui
DESCRIPTION:Cette exposition rend hommage à la vitalité et à la résilience de la scène artistique libanaise\, un an après l’explosion qui a ravagé le port de Beyrouth le 4 août 2020. Le parcours met en lumière des artistes modernes et contemporains du Liban et de ses diasporas\, de la date de l’indépendance du pays en 1943 jusqu’à aujourd’hui. Des peintures\, dessins\, sculptures et objets ; mais également livres d’artiste\, photographies et vidéos\, estampes\, textiles\, céramiques et installations sont à découvrir.
URL:https://actu.art/event/lumieres-du-liban/
LOCATION:Institut du Monde Arabe\, 1 rue des Fossés-Saint-Bernard\, Paris\, Paris\, 75005\, France
CATEGORIES:Notre Sélection
ATTACH;FMTTYPE=image/jpeg:https://actu.art/wp-content/uploads/2021/07/Lumieres-du-Liban-595x596-1.jpg
GEO:48.8493015;2.3560992
X-APPLE-STRUCTURED-LOCATION;VALUE=URI;X-ADDRESS=Institut du Monde Arabe 1 rue des Fossés-Saint-Bernard Paris Paris 75005 France;X-APPLE-RADIUS=500;X-TITLE=1 rue des Fossés-Saint-Bernard:geo:2.3560992,48.8493015
END:VEVENT
END:VCALENDAR