BEGIN:VCALENDAR
VERSION:2.0
PRODID:-//Actu.Art - ECPv6.15.13//NONSGML v1.0//EN
CALSCALE:GREGORIAN
METHOD:PUBLISH
X-WR-CALNAME:Actu.Art
X-ORIGINAL-URL:https://actu.art
X-WR-CALDESC:Évènements pour Actu.Art
BEGIN:VTIMEZONE
TZID:Europe/Paris
BEGIN:DAYLIGHT
TZOFFSETFROM:+0100
TZOFFSETTO:+0200
TZNAME:CEST
DTSTART:20240331T010000
END:DAYLIGHT
BEGIN:STANDARD
TZOFFSETFROM:+0200
TZOFFSETTO:+0100
TZNAME:CET
DTSTART:20241027T010000
END:STANDARD
BEGIN:DAYLIGHT
TZOFFSETFROM:+0100
TZOFFSETTO:+0200
TZNAME:CEST
DTSTART:20250330T010000
END:DAYLIGHT
BEGIN:STANDARD
TZOFFSETFROM:+0200
TZOFFSETTO:+0100
TZNAME:CET
DTSTART:20251026T010000
END:STANDARD
BEGIN:DAYLIGHT
TZOFFSETFROM:+0100
TZOFFSETTO:+0200
TZNAME:CEST
DTSTART:20260329T010000
END:DAYLIGHT
BEGIN:STANDARD
TZOFFSETFROM:+0200
TZOFFSETTO:+0100
TZNAME:CET
DTSTART:20261025T010000
END:STANDARD
END:VTIMEZONE
BEGIN:VEVENT
DTSTART;TZID=Europe/Paris:20250403T143000
DTEND;TZID=Europe/Paris:20250419T190000
DTSTAMP:20260422T212222
CREATED:20250323T222127Z
LAST-MODIFIED:20250323T222127Z
UID:112677-1743690600-1745089200@actu.art
SUMMARY:LOUGARRE (exposition)
DESCRIPTION:LOUGARRE expose ses toutes dernières oeuvres du 3 au 19 avril 2025 à la galerie Duchosal à Paris. 30 peintures et monotypes du petit au grand format. \nVernissage le jeudi 3 avril de 18 à 21h. \nGalerie Marie-Claude Duchosal\n1 rue Ferdinand Duval\n75004 Paris\n06 12 78 64 57
URL:https://actu.art/event/lougarre-exposition/
LOCATION:Galerie Marie-Claude Duchosal\, 1 rue Ferdinand-Duval\, Paris\, Paris\, 75004\, France
CATEGORIES:Expositions Galeries
ATTACH;FMTTYPE=image/jpeg:https://actu.art/wp-content/uploads/2025/03/projet-affiche-Duchosal4a-scaled.jpg
GEO:48.8561863;2.3589693
X-APPLE-STRUCTURED-LOCATION;VALUE=URI;X-ADDRESS=Galerie Marie-Claude Duchosal 1 rue Ferdinand-Duval Paris Paris 75004 France;X-APPLE-RADIUS=500;X-TITLE=1 rue Ferdinand-Duval:geo:2.3589693,48.8561863
END:VEVENT
END:VCALENDAR