BEGIN:VCALENDAR
VERSION:2.0
PRODID:-//Actu.Art - ECPv6.15.13//NONSGML v1.0//EN
CALSCALE:GREGORIAN
METHOD:PUBLISH
X-WR-CALNAME:Actu.Art
X-ORIGINAL-URL:https://actu.art
X-WR-CALDESC:Évènements pour Actu.Art
BEGIN:VTIMEZONE
TZID:Europe/Paris
BEGIN:DAYLIGHT
TZOFFSETFROM:+0100
TZOFFSETTO:+0200
TZNAME:CEST
DTSTART:20240331T010000
END:DAYLIGHT
BEGIN:STANDARD
TZOFFSETFROM:+0200
TZOFFSETTO:+0100
TZNAME:CET
DTSTART:20241027T010000
END:STANDARD
BEGIN:DAYLIGHT
TZOFFSETFROM:+0100
TZOFFSETTO:+0200
TZNAME:CEST
DTSTART:20250330T010000
END:DAYLIGHT
BEGIN:STANDARD
TZOFFSETFROM:+0200
TZOFFSETTO:+0100
TZNAME:CET
DTSTART:20251026T010000
END:STANDARD
BEGIN:DAYLIGHT
TZOFFSETFROM:+0100
TZOFFSETTO:+0200
TZNAME:CEST
DTSTART:20260329T010000
END:DAYLIGHT
BEGIN:STANDARD
TZOFFSETFROM:+0200
TZOFFSETTO:+0100
TZNAME:CET
DTSTART:20261025T010000
END:STANDARD
END:VTIMEZONE
BEGIN:VEVENT
DTSTART;TZID=Europe/Paris:20250427T133000
DTEND;TZID=Europe/Paris:20250427T180000
DTSTAMP:20260425T022634
CREATED:20250421T203359Z
LAST-MODIFIED:20250421T203359Z
UID:115380-1745760600-1745776800@actu.art
SUMMARY:Loto de la ronde des artistes peintres
DESCRIPTION:La Ronde des artistes peintres est une association de peintres\, sculpteurs amateurs\, qui organise des expositions\, des concours\, le Festival annuel des Arts Pluriels à Plan de Cuques (peinture toutes techniques\, dessin\, photo\, sculpture\, art floral).\nCe loto est une manifestation destinée à se développer et devenir un lieu de rassemblement des artistes et amateurs d’art.\n10 parties soit 17 quines et 10 cartons pleins : il n’est pas nécessaire de s’inscrire\, et les chèques ne sont pas acceptés.
URL:https://actu.art/event/loto-de-la-ronde-des-artistes-peintres/
LOCATION:Centre d’Animation Municipal\, 388  avenue de Mazargues\, Marseille\, Bouches-du-Rhône\, 13008
CATEGORIES:Divers
ATTACH;FMTTYPE=image/jpeg:https://actu.art/wp-content/uploads/2025/04/Loto_de_la_ronde_des_artistes_peintres.jpg
END:VEVENT
END:VCALENDAR