BEGIN:VCALENDAR
VERSION:2.0
PRODID:-//Actu.Art - ECPv6.15.13//NONSGML v1.0//EN
CALSCALE:GREGORIAN
METHOD:PUBLISH
X-WR-CALNAME:Actu.Art
X-ORIGINAL-URL:https://actu.art
X-WR-CALDESC:Évènements pour Actu.Art
BEGIN:VTIMEZONE
TZID:Europe/Paris
BEGIN:DAYLIGHT
TZOFFSETFROM:+0100
TZOFFSETTO:+0200
TZNAME:CEST
DTSTART:20200329T010000
END:DAYLIGHT
BEGIN:STANDARD
TZOFFSETFROM:+0200
TZOFFSETTO:+0100
TZNAME:CET
DTSTART:20201025T010000
END:STANDARD
BEGIN:DAYLIGHT
TZOFFSETFROM:+0100
TZOFFSETTO:+0200
TZNAME:CEST
DTSTART:20210328T010000
END:DAYLIGHT
BEGIN:STANDARD
TZOFFSETFROM:+0200
TZOFFSETTO:+0100
TZNAME:CET
DTSTART:20211031T010000
END:STANDARD
BEGIN:DAYLIGHT
TZOFFSETFROM:+0100
TZOFFSETTO:+0200
TZNAME:CEST
DTSTART:20220327T010000
END:DAYLIGHT
BEGIN:STANDARD
TZOFFSETFROM:+0200
TZOFFSETTO:+0100
TZNAME:CET
DTSTART:20221030T010000
END:STANDARD
END:VTIMEZONE
BEGIN:VEVENT
DTSTART;TZID=Europe/Paris:20210528T100000
DTEND;TZID=Europe/Paris:20211219T190000
DTSTAMP:20260421T105542
CREATED:20210807T120937Z
LAST-MODIFIED:20211002T195317Z
UID:35348-1622196000-1639940400@actu.art
SUMMARY:L'Exposition Napoléon
DESCRIPTION:Autant admiré que controversé\, Napoléon Bonaparte est un personnage complexe dont la vie oscille entre héroïsme et tragédie\, victoire et défaite\, avancées modernes et mesures régressives. A l’occasion du bicentenaire de sa mort\, la Rmn – Grand Palais\, La Villette et Re Re / Adonis proposent une exposition spectaculaire\, dressant le portrait juste d’un personnage fascinant qui a façonné la France d’aujourd’hui. Car\, connaître Napoléon\, c’est comprendre le monde dans lequel nous vivons. De son ascension au déclin de l’aventure impériale\, l’exposition retrace en neuf sections cette période charnière\, des moments clés de l’Histoire de France à la vie intime et romanesque de l’empereur. \nLa participation particulièrement généreuse du musée de l’Armée\, du musée national du château de Fontainebleau\, du musée du Louvre\, du musée national des châteaux de Malmaison et Bois-Préau\, du Mobilier national\, de la Fondation Napoléon et la contribution exceptionnelle du musée national des châteaux de Versailles et de Trianon ont permis de rassembler plus de 150 pièces originales\, réunies ici pour la première fois. Chefs-d’œuvre créés sous l’Empire\, objets d’exception ayant appartenu à Napoléon et créations contemporaines se succèdent au fil d’un parcours chronologique et pédagogique. De vastes reconstitutions ainsi que de nombreux dispositifs numériques offrent aux visiteurs une véritable immersion au cœur de ces moments décisifs pour l’Histoire de France. Une rubrique de l’exposition\, conçue avec la Fondation pour la mémoire de l’esclavage\, est dédiée aux sujets de la politique coloniale de Napoléon et du rétablissement de l’esclavage.
URL:https://actu.art/event/lexposition-napoleon/
LOCATION:La Grande Halle de la Villette\, 211\, Avenue Jean Jaurès\, Paris\, Paris\, 75019\, France
CATEGORIES:Notre Sélection
ATTACH;FMTTYPE=image/jpeg:https://actu.art/wp-content/uploads/2021/08/Lexposition-Napoleon-505x800-1.jpg
GEO:48.8905829;2.3917436
X-APPLE-STRUCTURED-LOCATION;VALUE=URI;X-ADDRESS=La Grande Halle de la Villette 211 Avenue Jean Jaurès Paris Paris 75019 France;X-APPLE-RADIUS=500;X-TITLE=211\, Avenue Jean Jaurès:geo:2.3917436,48.8905829
END:VEVENT
END:VCALENDAR