BEGIN:VCALENDAR
VERSION:2.0
PRODID:-//Actu.Art - ECPv6.15.13//NONSGML v1.0//EN
CALSCALE:GREGORIAN
METHOD:PUBLISH
X-WR-CALNAME:Actu.Art
X-ORIGINAL-URL:https://actu.art
X-WR-CALDESC:Évènements pour Actu.Art
BEGIN:VTIMEZONE
TZID:Europe/Paris
BEGIN:DAYLIGHT
TZOFFSETFROM:+0100
TZOFFSETTO:+0200
TZNAME:CEST
DTSTART:20240331T010000
END:DAYLIGHT
BEGIN:STANDARD
TZOFFSETFROM:+0200
TZOFFSETTO:+0100
TZNAME:CET
DTSTART:20241027T010000
END:STANDARD
BEGIN:DAYLIGHT
TZOFFSETFROM:+0100
TZOFFSETTO:+0200
TZNAME:CEST
DTSTART:20250330T010000
END:DAYLIGHT
BEGIN:STANDARD
TZOFFSETFROM:+0200
TZOFFSETTO:+0100
TZNAME:CET
DTSTART:20251026T010000
END:STANDARD
BEGIN:DAYLIGHT
TZOFFSETFROM:+0100
TZOFFSETTO:+0200
TZNAME:CEST
DTSTART:20260329T010000
END:DAYLIGHT
BEGIN:STANDARD
TZOFFSETFROM:+0200
TZOFFSETTO:+0100
TZNAME:CET
DTSTART:20261025T010000
END:STANDARD
END:VTIMEZONE
BEGIN:VEVENT
DTSTART;TZID=Europe/Paris:20251004T110000
DTEND;TZID=Europe/Paris:20251005T170000
DTSTAMP:20260424T173823
CREATED:20250912T120547Z
LAST-MODIFIED:20250912T120547Z
UID:128478-1759575600-1759683600@actu.art
SUMMARY:Les Soudeurs du Soir - 2025
DESCRIPTION:Nous sommes de retour avec une nouvelle édition les 4 et 5 octobre 2025 au Haras de Lamballe (22)!! Nous vous attendons de pied fer…meuhh!! …
URL:https://actu.art/event/les-soudeurs-du-soir-2025/
LOCATION:Haras National de Lamballe\, Place du Champ de Foire\, Lamballe-Armor\, Côtes-d'Armor\, 22400\, France
CATEGORIES:Expositions
ATTACH;FMTTYPE=image/jpeg:https://actu.art/wp-content/uploads/2025/09/Les-Soudeurs-du-Soir-2025.jpg
GEO:48.4708678;-2.5172762
X-APPLE-STRUCTURED-LOCATION;VALUE=URI;X-ADDRESS=Haras National de Lamballe Place du Champ de Foire Lamballe-Armor Côtes-d'Armor 22400 France;X-APPLE-RADIUS=500;X-TITLE=Place du Champ de Foire:geo:-2.5172762,48.4708678
END:VEVENT
END:VCALENDAR