BEGIN:VCALENDAR
VERSION:2.0
PRODID:-//Actu.Art - ECPv6.15.13//NONSGML v1.0//EN
CALSCALE:GREGORIAN
METHOD:PUBLISH
X-WR-CALNAME:Actu.Art
X-ORIGINAL-URL:https://actu.art
X-WR-CALDESC:Évènements pour Actu.Art
BEGIN:VTIMEZONE
TZID:Europe/Paris
BEGIN:DAYLIGHT
TZOFFSETFROM:+0100
TZOFFSETTO:+0200
TZNAME:CEST
DTSTART:20240331T010000
END:DAYLIGHT
BEGIN:STANDARD
TZOFFSETFROM:+0200
TZOFFSETTO:+0100
TZNAME:CET
DTSTART:20241027T010000
END:STANDARD
BEGIN:DAYLIGHT
TZOFFSETFROM:+0100
TZOFFSETTO:+0200
TZNAME:CEST
DTSTART:20250330T010000
END:DAYLIGHT
BEGIN:STANDARD
TZOFFSETFROM:+0200
TZOFFSETTO:+0100
TZNAME:CET
DTSTART:20251026T010000
END:STANDARD
BEGIN:DAYLIGHT
TZOFFSETFROM:+0100
TZOFFSETTO:+0200
TZNAME:CEST
DTSTART:20260329T010000
END:DAYLIGHT
BEGIN:STANDARD
TZOFFSETFROM:+0200
TZOFFSETTO:+0100
TZNAME:CET
DTSTART:20261025T010000
END:STANDARD
END:VTIMEZONE
BEGIN:VEVENT
DTSTART;TZID=Europe/Paris:20250805T150000
DTEND;TZID=Europe/Paris:20250830T183000
DTSTAMP:20260421T071552
CREATED:20250805T210929Z
LAST-MODIFIED:20250805T210929Z
UID:126311-1754406000-1756578600@actu.art
SUMMARY:Les sculptures de Laurence DUBAUT - Pieds nus sur la Terre sacrée
DESCRIPTION:La galerie Arthouse exposera du 5 au 30 août 2025 les oeuvres de Laurence DUBAUT. Les œuvres présentées sont de très douces compositions sculpturales organiques ; l’exposition nous invite à un voyage poétique dans la nature qui mène à la rêverie.
URL:https://actu.art/event/les-sculptures-de-laurence-dubaut-pieds-nus-sur-la-terre-sacree/
LOCATION:Galerie Arthouse\, 10 grande rue\, Chantelle\, Allier\, 03140\, France
CATEGORIES:Expositions
ATTACH;FMTTYPE=image/jpeg:https://actu.art/wp-content/uploads/2025/08/Les_sculptures_de_Laurence_DUBAUT_Pieds_nus_sur_la_Terre_sacree.jpg
GEO:46.2181005;3.1231714
X-APPLE-STRUCTURED-LOCATION;VALUE=URI;X-ADDRESS=Galerie Arthouse 10 grande rue Chantelle Allier 03140 France;X-APPLE-RADIUS=500;X-TITLE=10 grande rue:geo:3.1231714,46.2181005
END:VEVENT
END:VCALENDAR