BEGIN:VCALENDAR
VERSION:2.0
PRODID:-//Actu.Art - ECPv6.15.13//NONSGML v1.0//EN
CALSCALE:GREGORIAN
METHOD:PUBLISH
X-WR-CALNAME:Actu.Art
X-ORIGINAL-URL:https://actu.art
X-WR-CALDESC:Évènements pour Actu.Art
BEGIN:VTIMEZONE
TZID:Europe/Paris
BEGIN:DAYLIGHT
TZOFFSETFROM:+0100
TZOFFSETTO:+0200
TZNAME:CEST
DTSTART:20190331T010000
END:DAYLIGHT
BEGIN:STANDARD
TZOFFSETFROM:+0200
TZOFFSETTO:+0100
TZNAME:CET
DTSTART:20191027T010000
END:STANDARD
BEGIN:DAYLIGHT
TZOFFSETFROM:+0100
TZOFFSETTO:+0200
TZNAME:CEST
DTSTART:20200329T010000
END:DAYLIGHT
BEGIN:STANDARD
TZOFFSETFROM:+0200
TZOFFSETTO:+0100
TZNAME:CET
DTSTART:20201025T010000
END:STANDARD
BEGIN:DAYLIGHT
TZOFFSETFROM:+0100
TZOFFSETTO:+0200
TZNAME:CEST
DTSTART:20210328T010000
END:DAYLIGHT
BEGIN:STANDARD
TZOFFSETFROM:+0200
TZOFFSETTO:+0100
TZNAME:CET
DTSTART:20211031T010000
END:STANDARD
BEGIN:DAYLIGHT
TZOFFSETFROM:+0100
TZOFFSETTO:+0200
TZNAME:CEST
DTSTART:20220327T010000
END:DAYLIGHT
BEGIN:STANDARD
TZOFFSETFROM:+0200
TZOFFSETTO:+0100
TZNAME:CET
DTSTART:20221030T010000
END:STANDARD
END:VTIMEZONE
BEGIN:VEVENT
DTSTART;TZID=Europe/Paris:20200923T100000
DTEND;TZID=Europe/Paris:20210125T180000
DTSTAMP:20260426T011447
CREATED:20200125T155025Z
LAST-MODIFIED:20210112T211501Z
UID:18427-1600855200-1611597600@actu.art
SUMMARY:Les Louvre de Pablo Picasso
DESCRIPTION:L’exposition se penche à la fois sur le dialogue que l’œuvre de Picasso a noué avec les collections du Louvre\, et sur les liens que\, depuis les années 1930\, le plus grand musée du monde a eu à cœur de tisser avec l’artiste et son œuvre. Elle se propose de suivre Picasso dans ses pérégrinations à travers les collections du Louvre.
URL:https://actu.art/event/les-louvre-de-pablo-picasso/
LOCATION:Musée Le Louvre – Lens\, 99 Rue Paul Bert\, Lens\, Pas-de-Calais\, 62300\, France
CATEGORIES:Notre Sélection
ATTACH;FMTTYPE=image/jpeg:https://actu.art/wp-content/uploads/2020/01/Picasso-Portrait-dOlga-dans-un-fauteuil.jpg
GEO:50.4323611;2.8044388
X-APPLE-STRUCTURED-LOCATION;VALUE=URI;X-ADDRESS=Musée Le Louvre – Lens 99 Rue Paul Bert Lens Pas-de-Calais 62300 France;X-APPLE-RADIUS=500;X-TITLE=99 Rue Paul Bert:geo:2.8044388,50.4323611
END:VEVENT
END:VCALENDAR