BEGIN:VCALENDAR
VERSION:2.0
PRODID:-//Actu.Art - ECPv6.15.13//NONSGML v1.0//EN
CALSCALE:GREGORIAN
METHOD:PUBLISH
X-WR-CALNAME:Actu.Art
X-ORIGINAL-URL:https://actu.art
X-WR-CALDESC:Évènements pour Actu.Art
BEGIN:VTIMEZONE
TZID:Europe/Paris
BEGIN:DAYLIGHT
TZOFFSETFROM:+0100
TZOFFSETTO:+0200
TZNAME:CEST
DTSTART:20250330T010000
END:DAYLIGHT
BEGIN:STANDARD
TZOFFSETFROM:+0200
TZOFFSETTO:+0100
TZNAME:CET
DTSTART:20251026T010000
END:STANDARD
BEGIN:DAYLIGHT
TZOFFSETFROM:+0100
TZOFFSETTO:+0200
TZNAME:CEST
DTSTART:20260329T010000
END:DAYLIGHT
BEGIN:STANDARD
TZOFFSETFROM:+0200
TZOFFSETTO:+0100
TZNAME:CET
DTSTART:20261025T010000
END:STANDARD
BEGIN:DAYLIGHT
TZOFFSETFROM:+0100
TZOFFSETTO:+0200
TZNAME:CEST
DTSTART:20270328T010000
END:DAYLIGHT
BEGIN:STANDARD
TZOFFSETFROM:+0200
TZOFFSETTO:+0100
TZNAME:CET
DTSTART:20271031T010000
END:STANDARD
BEGIN:DAYLIGHT
TZOFFSETFROM:+0100
TZOFFSETTO:+0200
TZNAME:CEST
DTSTART:20280326T010000
END:DAYLIGHT
BEGIN:STANDARD
TZOFFSETFROM:+0200
TZOFFSETTO:+0100
TZNAME:CET
DTSTART:20281029T010000
END:STANDARD
END:VTIMEZONE
BEGIN:VEVENT
DTSTART;VALUE=DATE:20260408
DTEND;VALUE=DATE:20270104
DTSTAMP:20260421T105557
CREATED:20260305T160344Z
LAST-MODIFIED:20260305T160344Z
UID:139687-1775606400-1799020799@actu.art
SUMMARY:Les grands âges
DESCRIPTION:Le Musée de l’Homme propose une exposition consacrée aux grands âges de la vie humaine. Mêlant art et science\, elle est le fruit de la rencontre entre le photographe Nikos Aliagas\, qui explore le sujet depuis plusieurs décennies\, et le biodémographe Samuel Pavard\, professeur au Muséum\, spécialiste du vieillissement. En croisant leurs regards à la fois lucides et délicats sur la vieillesse comme réalité biologique\, démographique et sociale\, Samuel Pavard et Nikos Aliagas font émerger ensemble des questions sur notre relation au temps\, sur la place que notre société fait aux grands âges et sur les liens que les différentes générations entretiennent entre elles.
URL:https://actu.art/event/les-grands-ages/
LOCATION:Palais de Chaillot\, 17 Place du Trocadéro\, Paris 16\, 75016
CATEGORIES:Expositions
ATTACH;FMTTYPE=image/jpeg:https://actu.art/wp-content/uploads/2026/03/Les_grands_ages.jpg
GEO:48.8620056;2.2876298
X-APPLE-STRUCTURED-LOCATION;VALUE=URI;X-ADDRESS=Palais de Chaillot 17 Place du Trocadéro Paris 16 75016;X-APPLE-RADIUS=500;X-TITLE=17 Place du Trocadéro:geo:2.2876298,48.8620056
END:VEVENT
END:VCALENDAR