BEGIN:VCALENDAR
VERSION:2.0
PRODID:-//Actu.Art - ECPv6.15.13//NONSGML v1.0//EN
CALSCALE:GREGORIAN
METHOD:PUBLISH
X-WR-CALNAME:Actu.Art
X-ORIGINAL-URL:https://actu.art
X-WR-CALDESC:Évènements pour Actu.Art
BEGIN:VTIMEZONE
TZID:Europe/Paris
BEGIN:DAYLIGHT
TZOFFSETFROM:+0100
TZOFFSETTO:+0200
TZNAME:CEST
DTSTART:20180325T010000
END:DAYLIGHT
BEGIN:STANDARD
TZOFFSETFROM:+0200
TZOFFSETTO:+0100
TZNAME:CET
DTSTART:20181028T010000
END:STANDARD
BEGIN:DAYLIGHT
TZOFFSETFROM:+0100
TZOFFSETTO:+0200
TZNAME:CEST
DTSTART:20190331T010000
END:DAYLIGHT
BEGIN:STANDARD
TZOFFSETFROM:+0200
TZOFFSETTO:+0100
TZNAME:CET
DTSTART:20191027T010000
END:STANDARD
BEGIN:DAYLIGHT
TZOFFSETFROM:+0100
TZOFFSETTO:+0200
TZNAME:CEST
DTSTART:20200329T010000
END:DAYLIGHT
BEGIN:STANDARD
TZOFFSETFROM:+0200
TZOFFSETTO:+0100
TZNAME:CET
DTSTART:20201025T010000
END:STANDARD
END:VTIMEZONE
BEGIN:VEVENT
DTSTART;TZID=Europe/Paris:20190411T110000
DTEND;TZID=Europe/Paris:20190908T180000
DTSTAMP:20260424T204317
CREATED:20190519T161937Z
LAST-MODIFIED:20190820T215004Z
UID:7573-1554980400-1567965600@actu.art
SUMMARY:Les Drôles de Petites Bêtes d'Antoon Krings
DESCRIPTION:Antoon Krings est un artiste-phare du monde de l’illustration et de la littérature jeunesse. Les héros de ses livres sont des animaux rarement mis en avant dans les livres pour enfants comme les insectes\, rongeurs et petits nuisibles. Ancré dans la tradition d’une littérature jeunesse différente\, il ne renie cependant pas les apports des XIXe et XXe siècles. Le parcours d’exposition couvre les thèmes variés de son inspiration\, tout en portant un regard sur son atelier.
URL:https://actu.art/event/les-droles-de-petites-betes-dantoon-krings/
LOCATION:Musée des Arts Décoratifs\, 107\, rue de Rivoli\, Paris\, Paris\, 75001\, France
CATEGORIES:Notre Sélection
ATTACH;FMTTYPE=image/jpeg:https://actu.art/wp-content/uploads/2019/05/Les_Droles_de_Petites_Betes_d_Antoon_Krings.jpg
GEO:48.863091;2.333307
X-APPLE-STRUCTURED-LOCATION;VALUE=URI;X-ADDRESS=Musée des Arts Décoratifs 107 rue de Rivoli Paris Paris 75001 France;X-APPLE-RADIUS=500;X-TITLE=107\, rue de Rivoli:geo:2.333307,48.863091
END:VEVENT
END:VCALENDAR