BEGIN:VCALENDAR
VERSION:2.0
PRODID:-//Actu.Art - ECPv6.15.13//NONSGML v1.0//EN
CALSCALE:GREGORIAN
METHOD:PUBLISH
X-WR-CALNAME:Actu.Art
X-ORIGINAL-URL:https://actu.art
X-WR-CALDESC:Évènements pour Actu.Art
BEGIN:VTIMEZONE
TZID:Europe/Paris
BEGIN:DAYLIGHT
TZOFFSETFROM:+0100
TZOFFSETTO:+0200
TZNAME:CEST
DTSTART:20210328T010000
END:DAYLIGHT
BEGIN:STANDARD
TZOFFSETFROM:+0200
TZOFFSETTO:+0100
TZNAME:CET
DTSTART:20211031T010000
END:STANDARD
BEGIN:DAYLIGHT
TZOFFSETFROM:+0100
TZOFFSETTO:+0200
TZNAME:CEST
DTSTART:20220327T010000
END:DAYLIGHT
BEGIN:STANDARD
TZOFFSETFROM:+0200
TZOFFSETTO:+0100
TZNAME:CET
DTSTART:20221030T010000
END:STANDARD
BEGIN:DAYLIGHT
TZOFFSETFROM:+0100
TZOFFSETTO:+0200
TZNAME:CEST
DTSTART:20230326T010000
END:DAYLIGHT
BEGIN:STANDARD
TZOFFSETFROM:+0200
TZOFFSETTO:+0100
TZNAME:CET
DTSTART:20231029T010000
END:STANDARD
BEGIN:DAYLIGHT
TZOFFSETFROM:+0100
TZOFFSETTO:+0200
TZNAME:CEST
DTSTART:20240331T010000
END:DAYLIGHT
BEGIN:STANDARD
TZOFFSETFROM:+0200
TZOFFSETTO:+0100
TZNAME:CET
DTSTART:20241027T010000
END:STANDARD
END:VTIMEZONE
BEGIN:VEVENT
DTSTART;TZID=Europe/Paris:20221012T090000
DTEND;TZID=Europe/Paris:20230123T180000
DTSTAMP:20260423T104513
CREATED:20221107T181900Z
LAST-MODIFIED:20221109T211911Z
UID:52457-1665565200-1674496800@actu.art
SUMMARY:Les choses - Une histoire de la nature morte
DESCRIPTION:Conçue par Laurence Bertrand Dorléac\, « Les Choses » est une exposition d’auteur proposant une vision nouvelle d’un genre longtemps considéré comme mineur et dont l’intitulé en français n’est pas sans poser question : la nature morte.\nLa représentation des choses\, dont on retrouve des témoignages dès la préhistoire\, permet une formidable plongée dans l’histoire. Les artistes ont\, en effet\, été les premiers à prendre les choses au sérieux. Ils ont reconnu leur présence\, les ont rendues vivantes et intéressantes en exaltant leur forme\, leur signification\, leur pouvoir\, leur charme. Ils ont saisi leur faculté à nous faire imaginer\, croire\, douter\, rêver\, agir.\nL’exposition revisite le genre de la nature morte\, dans la perspective de cet éternel dialogue entre les artistes du passé et ceux du présent.\nÀ la faveur de l’attachement que nous leur portons\, c’est aussi notre relation avec les biens matériels qui est racontée. Des haches préhistoriques au ready-made de Duchamp en passant par Chardin et Manet\, toute l’histoire de l’art est revisitée.
URL:https://actu.art/event/les-choses-une-histoire-de-la-nature-morte/
LOCATION:Musée du Louvre\, rue de Rivoli\, Paris 01\, Paris\, 75001\, France
CATEGORIES:Notre Sélection
ATTACH;FMTTYPE=image/jpeg:https://actu.art/wp-content/uploads/2022/11/Les_choses_Une_histoire_de_la_nature_morte.jpg
GEO:48.8557059;2.3589484
X-APPLE-STRUCTURED-LOCATION;VALUE=URI;X-ADDRESS=Musée du Louvre rue de Rivoli Paris 01 Paris 75001 France;X-APPLE-RADIUS=500;X-TITLE=rue de Rivoli:geo:2.3589484,48.8557059
END:VEVENT
END:VCALENDAR