BEGIN:VCALENDAR
VERSION:2.0
PRODID:-//Actu.Art - ECPv6.15.13//NONSGML v1.0//EN
CALSCALE:GREGORIAN
METHOD:PUBLISH
X-WR-CALNAME:Actu.Art
X-ORIGINAL-URL:https://actu.art
X-WR-CALDESC:Évènements pour Actu.Art
BEGIN:VTIMEZONE
TZID:Europe/Paris
BEGIN:DAYLIGHT
TZOFFSETFROM:+0100
TZOFFSETTO:+0200
TZNAME:CEST
DTSTART:20230326T010000
END:DAYLIGHT
BEGIN:STANDARD
TZOFFSETFROM:+0200
TZOFFSETTO:+0100
TZNAME:CET
DTSTART:20231029T010000
END:STANDARD
BEGIN:DAYLIGHT
TZOFFSETFROM:+0100
TZOFFSETTO:+0200
TZNAME:CEST
DTSTART:20240331T010000
END:DAYLIGHT
BEGIN:STANDARD
TZOFFSETFROM:+0200
TZOFFSETTO:+0100
TZNAME:CET
DTSTART:20241027T010000
END:STANDARD
BEGIN:DAYLIGHT
TZOFFSETFROM:+0100
TZOFFSETTO:+0200
TZNAME:CEST
DTSTART:20250330T010000
END:DAYLIGHT
BEGIN:STANDARD
TZOFFSETFROM:+0200
TZOFFSETTO:+0100
TZNAME:CET
DTSTART:20251026T010000
END:STANDARD
END:VTIMEZONE
BEGIN:VEVENT
DTSTART;VALUE=DATE:20240607
DTEND;VALUE=DATE:20241104
DTSTAMP:20260424T223605
CREATED:20241127T162809Z
LAST-MODIFIED:20241127T162809Z
UID:86018-1717718400-1730678399@actu.art
SUMMARY:Les chevaux de Marly\, chefs-d’œuvre de l’art équestre
DESCRIPTION:À travers une centaine de tableaux\, sculptures\, dessins\, gravures\, accessoires et documents d’archives\, le musée du Domaine royal de Marly présente\, à l’occasion des épreuves équestres des Jeux Olympiques et Paralympiques de Paris 2024\, une exposition originale consacrée à la place du cheval au Domaine de Marly\, de Louis XIV à la Révolution.
URL:https://actu.art/event/les-chevaux-de-marly-chefs-doeuvre-de-lart-equestre/
LOCATION:Musée-Promenade de Marly-Le Roi-Louveciennes\, La Grille Royale - Parc de Marly\, Louveciennes\, Yvelines\, 78430\, France
CATEGORIES:Expositions
ATTACH;FMTTYPE=image/jpeg:https://actu.art/wp-content/uploads/2024/05/Les-Chevaux-du-Roi.jpg
GEO:48.859327;2.1096335
X-APPLE-STRUCTURED-LOCATION;VALUE=URI;X-ADDRESS=Musée-Promenade de Marly-Le Roi-Louveciennes La Grille Royale - Parc de Marly Louveciennes Yvelines 78430 France;X-APPLE-RADIUS=500;X-TITLE=La Grille Royale - Parc de Marly:geo:2.1096335,48.859327
END:VEVENT
END:VCALENDAR