BEGIN:VCALENDAR
VERSION:2.0
PRODID:-//Actu.Art - ECPv6.15.13//NONSGML v1.0//EN
CALSCALE:GREGORIAN
METHOD:PUBLISH
X-WR-CALNAME:Actu.Art
X-ORIGINAL-URL:https://actu.art
X-WR-CALDESC:Évènements pour Actu.Art
BEGIN:VTIMEZONE
TZID:Europe/Paris
BEGIN:DAYLIGHT
TZOFFSETFROM:+0100
TZOFFSETTO:+0200
TZNAME:CEST
DTSTART:20250330T010000
END:DAYLIGHT
BEGIN:STANDARD
TZOFFSETFROM:+0200
TZOFFSETTO:+0100
TZNAME:CET
DTSTART:20251026T010000
END:STANDARD
BEGIN:DAYLIGHT
TZOFFSETFROM:+0100
TZOFFSETTO:+0200
TZNAME:CEST
DTSTART:20260329T010000
END:DAYLIGHT
BEGIN:STANDARD
TZOFFSETFROM:+0200
TZOFFSETTO:+0100
TZNAME:CET
DTSTART:20261025T010000
END:STANDARD
BEGIN:DAYLIGHT
TZOFFSETFROM:+0100
TZOFFSETTO:+0200
TZNAME:CEST
DTSTART:20270328T010000
END:DAYLIGHT
BEGIN:STANDARD
TZOFFSETFROM:+0200
TZOFFSETTO:+0100
TZNAME:CET
DTSTART:20271031T010000
END:STANDARD
END:VTIMEZONE
BEGIN:VEVENT
DTSTART;TZID=Europe/Paris:20260306T140000
DTEND;TZID=Europe/Paris:20260308T180000
DTSTAMP:20260421T162832
CREATED:20260304T153424Z
LAST-MODIFIED:20260304T153424Z
UID:139844-1772805600-1772992800@actu.art
SUMMARY:Les Arts du Vieux Temple : évolutions autour de l'abstrait
DESCRIPTION:La salle du Vieux Temple et ses murs en pierre serviront d’écrin à une exposition collective d’artistes régionaux.\nUn rendez-vous organisé de manière périodique\, une galerie éphémère\, où sculptures et oeuvres d’art contemporaines pourront dialoguer\, apportant au public un regard sur l’art à chaque fois renouvelé.\nDu 06/03/2026 de 14h à 18h et du 07/03/2026 au 08/03/2026 de 10h à 18h30
URL:https://actu.art/event/les-arts-du-vieux-temple-evolutions-autour-de-labstrait/
LOCATION:Salle du Vieux temple\, 120 chemin de la Verchere\, Charnay-lès-Mâcon\, Saône-et-Loire\, 71850\, France
CATEGORIES:Expositions
ATTACH;FMTTYPE=image/jpeg:https://actu.art/wp-content/uploads/2026/03/Les_Arts_du_Vieux_Temple_evolutions_autour_de_l_abstrait.jpg
GEO:46.3065084;4.7994332
X-APPLE-STRUCTURED-LOCATION;VALUE=URI;X-ADDRESS=Salle du Vieux temple 120 chemin de la Verchere Charnay-lès-Mâcon Saône-et-Loire 71850 France;X-APPLE-RADIUS=500;X-TITLE=120 chemin de la Verchere:geo:4.7994332,46.3065084
END:VEVENT
END:VCALENDAR