BEGIN:VCALENDAR
VERSION:2.0
PRODID:-//Actu.Art - ECPv6.15.13//NONSGML v1.0//EN
CALSCALE:GREGORIAN
METHOD:PUBLISH
X-WR-CALNAME:Actu.Art
X-ORIGINAL-URL:https://actu.art
X-WR-CALDESC:Évènements pour Actu.Art
BEGIN:VTIMEZONE
TZID:Europe/Paris
BEGIN:DAYLIGHT
TZOFFSETFROM:+0100
TZOFFSETTO:+0200
TZNAME:CEST
DTSTART:20240331T010000
END:DAYLIGHT
BEGIN:STANDARD
TZOFFSETFROM:+0200
TZOFFSETTO:+0100
TZNAME:CET
DTSTART:20241027T010000
END:STANDARD
BEGIN:DAYLIGHT
TZOFFSETFROM:+0100
TZOFFSETTO:+0200
TZNAME:CEST
DTSTART:20250330T010000
END:DAYLIGHT
BEGIN:STANDARD
TZOFFSETFROM:+0200
TZOFFSETTO:+0100
TZNAME:CET
DTSTART:20251026T010000
END:STANDARD
BEGIN:DAYLIGHT
TZOFFSETFROM:+0100
TZOFFSETTO:+0200
TZNAME:CEST
DTSTART:20260329T010000
END:DAYLIGHT
BEGIN:STANDARD
TZOFFSETFROM:+0200
TZOFFSETTO:+0100
TZNAME:CET
DTSTART:20261025T010000
END:STANDARD
END:VTIMEZONE
BEGIN:VEVENT
DTSTART;TZID=Europe/Paris:20250720T090000
DTEND;TZID=Europe/Paris:20250720T190000
DTSTAMP:20260424T075904
CREATED:20250619T144350Z
LAST-MODIFIED:20250619T144549Z
UID:121539-1753002000-1753038000@actu.art
SUMMARY:Les Artistes dans la Ville - Montbazon
DESCRIPTION:L’évènement se déroule dans toute la ville. \nLes artistes dans la ville est un concours ouvert à toutes et tous\, gratuit\, il permet à tous les artistes utilisant des techniques picturales (à l’exclusion de procédés photographiques) de venir créer une œuvre. \n  \nDe 9 h à 17h\, les concurrents sont invités à créer leurs œuvres en public\, éparpillés un peu partout dans la ville. Il faut dire que ce petit bourg niché au creux d’un méandre de l’Indre s’y prête avec ses vestiges du Moyen Âge et ses berges ombragées. \n  \nOutre le travail en un temps limité\, les artistes devront composer avec le thème imposé « Une vision insolite ». \n  \nA partir de 17h\, le public votera pour son œuvre préférée lors de l’exposition temporaire des œuvres (Place de l’Hôtel de Ville). A 18h\, le jury remettra les différentes récompenses. La Ville fera l’acquisition du 1er prix pour un montant de 300€ qui sera accroché aux murs de la mairie. \n  \nInscriptions par mail culture@ville-montbazon.fr ou 06 27 43 53 22\, \nou dimanche\, devant l’hôtel de Ville de 8h30 à 11h30 \n\n\n\n\n\n\nBulletin d’inscription pour le concours de peinture en plein air \nLes artistes dans la ville de Montbazon \n(inscription possible le matin même) \nInscription \n 
URL:https://actu.art/event/les-artistes-dans-la-ville-montbazon/
LOCATION:Place André Delaunay\, Montbazon\, 37250
CATEGORIES:Concours Dessin/Peinture/Sculpture
ATTACH;FMTTYPE=image/jpeg:https://actu.art/wp-content/uploads/2025/06/Les-Artistes-dans-la-Ville.jpg
ORGANIZER;CN="Commune de Montbazon":MAILTO:culture@ville-montbazon.fr
GEO:47.2869839;0.713777
END:VEVENT
END:VCALENDAR