BEGIN:VCALENDAR
VERSION:2.0
PRODID:-//Actu.Art - ECPv6.15.13//NONSGML v1.0//EN
CALSCALE:GREGORIAN
METHOD:PUBLISH
X-WR-CALNAME:Actu.Art
X-ORIGINAL-URL:https://actu.art
X-WR-CALDESC:Évènements pour Actu.Art
BEGIN:VTIMEZONE
TZID:Europe/Paris
BEGIN:DAYLIGHT
TZOFFSETFROM:+0100
TZOFFSETTO:+0200
TZNAME:CEST
DTSTART:20210328T010000
END:DAYLIGHT
BEGIN:STANDARD
TZOFFSETFROM:+0200
TZOFFSETTO:+0100
TZNAME:CET
DTSTART:20211031T010000
END:STANDARD
BEGIN:DAYLIGHT
TZOFFSETFROM:+0100
TZOFFSETTO:+0200
TZNAME:CEST
DTSTART:20220327T010000
END:DAYLIGHT
BEGIN:STANDARD
TZOFFSETFROM:+0200
TZOFFSETTO:+0100
TZNAME:CET
DTSTART:20221030T010000
END:STANDARD
BEGIN:DAYLIGHT
TZOFFSETFROM:+0100
TZOFFSETTO:+0200
TZNAME:CEST
DTSTART:20230326T010000
END:DAYLIGHT
BEGIN:STANDARD
TZOFFSETFROM:+0200
TZOFFSETTO:+0100
TZNAME:CET
DTSTART:20231029T010000
END:STANDARD
BEGIN:DAYLIGHT
TZOFFSETFROM:+0100
TZOFFSETTO:+0200
TZNAME:CEST
DTSTART:20240331T010000
END:DAYLIGHT
BEGIN:STANDARD
TZOFFSETFROM:+0200
TZOFFSETTO:+0100
TZNAME:CET
DTSTART:20241027T010000
END:STANDARD
END:VTIMEZONE
BEGIN:VEVENT
DTSTART;TZID=Europe/Paris:20221021T100000
DTEND;TZID=Europe/Paris:20230219T180000
DTSTAMP:20260423T043035
CREATED:20220710T113321Z
LAST-MODIFIED:20221210T084126Z
UID:46320-1666346400-1676829600@actu.art
SUMMARY:L’Encre en mouvement
DESCRIPTION:De la fin de l’Empire à la Révolution de 1949\, la Chine du XXe siècle connaît de profondes mutations : la peinture est en phase avec ces changements. Définie depuis des siècles par l’usage de l’encre\, elle va se réinventer au contact de la peinture à l’huile et de la photographie\, mais également grâce à la redécouverte de son propre passé. La peinture chinoise du XXe siècle est ainsi au cœur de ce parcours d’exposition\, qui présente plus de 70 œuvres réalisées par 36 artistes chinois.
URL:https://actu.art/event/lencre-en-mouvement/
LOCATION:Musée Cernuschi\, Hôtel particulier - 7 avenue Vélasquez\, Paris\, Paris\, 75008\, France
CATEGORIES:Notre Sélection
ATTACH;FMTTYPE=image/jpeg:https://actu.art/wp-content/uploads/2022/07/Lencre-en-mouvement.jpg
GEO:48.8795553;2.3124514
X-APPLE-STRUCTURED-LOCATION;VALUE=URI;X-ADDRESS=Musée Cernuschi Hôtel particulier - 7 avenue Vélasquez Paris Paris 75008 France;X-APPLE-RADIUS=500;X-TITLE=Hôtel particulier - 7 avenue Vélasquez:geo:2.3124514,48.8795553
END:VEVENT
END:VCALENDAR