BEGIN:VCALENDAR
VERSION:2.0
PRODID:-//Actu.Art - ECPv6.15.13//NONSGML v1.0//EN
CALSCALE:GREGORIAN
METHOD:PUBLISH
X-WR-CALNAME:Actu.Art
X-ORIGINAL-URL:https://actu.art
X-WR-CALDESC:Évènements pour Actu.Art
BEGIN:VTIMEZONE
TZID:Europe/Paris
BEGIN:DAYLIGHT
TZOFFSETFROM:+0100
TZOFFSETTO:+0200
TZNAME:CEST
DTSTART:20240331T010000
END:DAYLIGHT
BEGIN:STANDARD
TZOFFSETFROM:+0200
TZOFFSETTO:+0100
TZNAME:CET
DTSTART:20241027T010000
END:STANDARD
BEGIN:DAYLIGHT
TZOFFSETFROM:+0100
TZOFFSETTO:+0200
TZNAME:CEST
DTSTART:20250330T010000
END:DAYLIGHT
BEGIN:STANDARD
TZOFFSETFROM:+0200
TZOFFSETTO:+0100
TZNAME:CET
DTSTART:20251026T010000
END:STANDARD
BEGIN:DAYLIGHT
TZOFFSETFROM:+0100
TZOFFSETTO:+0200
TZNAME:CEST
DTSTART:20260329T010000
END:DAYLIGHT
BEGIN:STANDARD
TZOFFSETFROM:+0200
TZOFFSETTO:+0100
TZNAME:CET
DTSTART:20261025T010000
END:STANDARD
END:VTIMEZONE
BEGIN:VEVENT
DTSTART;VALUE=DATE:20250515
DTEND;VALUE=DATE:20250608
DTSTAMP:20260426T030840
CREATED:20250530T215115Z
LAST-MODIFIED:20250530T215115Z
UID:117415-1747267200-1749340799@actu.art
SUMMARY:Le turban rouge : Joseph Kojo Hoggar\, Ikechukwu Nduka
DESCRIPTION:Deux jeunes artistes d’Afrique de l’ouest abordent les questions de la richesse\, du pouvoir et de l’identité. \nJoseph Kojo Hoggar est un artiste ghanéen fasciné par les maitres anciens et la peinture classique européenne. Il réinterprète les oeuvres de l’art occidental à travers son prisme culturel et identitaire africain. \nIkechukwu Nduka est un artiste nigérian qui crée des oeuvres textiles à partir de sangles tissées dont les formes rappellent la spiritualité du peuple Igbo dont il est issu.
URL:https://actu.art/event/le-turban-rouge-joseph-kojo-hoggar-ikechukwu-nduka/
LOCATION:Galerie Christophe Person\, 39 rue des Blancs-Manteaux\, Paris 4e\, Paris\, 75004\, France
CATEGORIES:Expositions Galeries
ATTACH;FMTTYPE=image/jpeg:https://actu.art/wp-content/uploads/2025/05/Le_turban_rouge_Joseph_Kojo_Hoggar_Ikechukwu_Nduka.jpg
GEO:48.8595746;2.3551273
X-APPLE-STRUCTURED-LOCATION;VALUE=URI;X-ADDRESS=Galerie Christophe Person 39 rue des Blancs-Manteaux Paris 4e Paris 75004 France;X-APPLE-RADIUS=500;X-TITLE=39 rue des Blancs-Manteaux:geo:2.3551273,48.8595746
END:VEVENT
END:VCALENDAR