BEGIN:VCALENDAR
VERSION:2.0
PRODID:-//Actu.Art - ECPv6.15.13//NONSGML v1.0//EN
CALSCALE:GREGORIAN
METHOD:PUBLISH
X-WR-CALNAME:Actu.Art
X-ORIGINAL-URL:https://actu.art
X-WR-CALDESC:Évènements pour Actu.Art
BEGIN:VTIMEZONE
TZID:Europe/Paris
BEGIN:DAYLIGHT
TZOFFSETFROM:+0100
TZOFFSETTO:+0200
TZNAME:CEST
DTSTART:20210328T010000
END:DAYLIGHT
BEGIN:STANDARD
TZOFFSETFROM:+0200
TZOFFSETTO:+0100
TZNAME:CET
DTSTART:20211031T010000
END:STANDARD
BEGIN:DAYLIGHT
TZOFFSETFROM:+0100
TZOFFSETTO:+0200
TZNAME:CEST
DTSTART:20220327T010000
END:DAYLIGHT
BEGIN:STANDARD
TZOFFSETFROM:+0200
TZOFFSETTO:+0100
TZNAME:CET
DTSTART:20221030T010000
END:STANDARD
BEGIN:DAYLIGHT
TZOFFSETFROM:+0100
TZOFFSETTO:+0200
TZNAME:CEST
DTSTART:20230326T010000
END:DAYLIGHT
BEGIN:STANDARD
TZOFFSETFROM:+0200
TZOFFSETTO:+0100
TZNAME:CET
DTSTART:20231029T010000
END:STANDARD
END:VTIMEZONE
BEGIN:VEVENT
DTSTART;TZID=Europe/Paris:20220413T100000
DTEND;TZID=Europe/Paris:20220821T180000
DTSTAMP:20260424T113158
CREATED:20211024T153924Z
LAST-MODIFIED:20220813T162344Z
UID:39170-1649844000-1661104800@actu.art
SUMMARY:Le Théâtre des Émotions
DESCRIPTION:Le Musée Marmottan Monet offre\, du 12 avril au 21 août 2022\, l’occasion inédite de parcourir l’histoire des émotions en peinture. \n\n\n\n\n\n\nÀ travers soixante-dix œuvres exemplaires provenant de collections publiques et privées d’Europe et des Etats-Unis (musée du Louvre\, d’Orsay\, Centre Pompidou\, National Gallery de Londres\, Galerie des Offices\, Brooklyn Museum…)\, l’exposition propose de saisir les transformations de la représentation des émois dans l’Europe des Temps modernes. \nDe Dürer à Greuze en passant par La Tour\, la première section du parcours montre le rôle des traités esthétiques dans les évocations des émotions : L’Iconologie (1593) de Cesare Ripa et la Méthode (1698) de Charles Lebrun offrent à tout peintre et sculpteur les « recettes » aptes à restituer les affects de leurs personnages. Au XIXème siècle\, d’autres événements et de nouvelles connaissances\, de la photographie à la psychiatrie\, font évoluer les représentations. Ainsi\, les caricatures de Boilly ou le naturalisme de Courbet laissent progressivement place au symbolisme et à l’intériorité menant vers un profond changement : dans le courant du XXème siècle l’émotion n’est plus représentée mais provoquée. Elle devient sensation. C’est ce que mettra en évidence la dernière partie de l’exposition en réunissant des toiles d’artistes majeurs de cette période comme Dali\, Picasso ou Fautrier. \nAu-delà de la richesse du sujet encore inexploré en histoire de l’art et de la qualité des œuvres qui l’illustrent\, « Le théâtre des émotions » dévoile la manière dont s’est lentement constitué le psychisme occidental du XVème siècle jusqu’à nos jours. \nCommissaires de l’exposition : Dominique Lobstein\, historien de l’art et Georges Vigarello\, historien
URL:https://actu.art/event/le-theatre-des-emotions/
LOCATION:Musée Marmottan-Monet\, 2 Rue Louis Boilly\, Paris\, Paris\, 75016\, France
CATEGORIES:Notre Sélection
ATTACH;FMTTYPE=image/jpeg:https://actu.art/wp-content/uploads/2021/10/Le-Theatre-des-Emotions.jpg
GEO:48.8592981;2.2673572
X-APPLE-STRUCTURED-LOCATION;VALUE=URI;X-ADDRESS=Musée Marmottan-Monet 2 Rue Louis Boilly Paris Paris 75016 France;X-APPLE-RADIUS=500;X-TITLE=2 Rue Louis Boilly:geo:2.2673572,48.8592981
END:VEVENT
END:VCALENDAR