BEGIN:VCALENDAR
VERSION:2.0
PRODID:-//Actu.Art - ECPv6.15.13//NONSGML v1.0//EN
CALSCALE:GREGORIAN
METHOD:PUBLISH
X-WR-CALNAME:Actu.Art
X-ORIGINAL-URL:https://actu.art
X-WR-CALDESC:Évènements pour Actu.Art
BEGIN:VTIMEZONE
TZID:Europe/Paris
BEGIN:DAYLIGHT
TZOFFSETFROM:+0100
TZOFFSETTO:+0200
TZNAME:CEST
DTSTART:20250330T010000
END:DAYLIGHT
BEGIN:STANDARD
TZOFFSETFROM:+0200
TZOFFSETTO:+0100
TZNAME:CET
DTSTART:20251026T010000
END:STANDARD
BEGIN:DAYLIGHT
TZOFFSETFROM:+0100
TZOFFSETTO:+0200
TZNAME:CEST
DTSTART:20260329T010000
END:DAYLIGHT
BEGIN:STANDARD
TZOFFSETFROM:+0200
TZOFFSETTO:+0100
TZNAME:CET
DTSTART:20261025T010000
END:STANDARD
BEGIN:DAYLIGHT
TZOFFSETFROM:+0100
TZOFFSETTO:+0200
TZNAME:CEST
DTSTART:20270328T010000
END:DAYLIGHT
BEGIN:STANDARD
TZOFFSETFROM:+0200
TZOFFSETTO:+0100
TZNAME:CET
DTSTART:20271031T010000
END:STANDARD
END:VTIMEZONE
BEGIN:VEVENT
DTSTART;TZID=Europe/Paris:20260226T100000
DTEND;TZID=Europe/Paris:20261018T180000
DTSTAMP:20260423T135838
CREATED:20260303T221511Z
LAST-MODIFIED:20260303T221511Z
UID:139750-1772100000-1792346400@actu.art
SUMMARY:Le temps retourné : Au fil des âges de la vie
DESCRIPTION:Dans un parcours conçu comme un cheminement qui va à rebours du déroulé de nos existences (on entre dans un espace «in memoriam» pour terminer dans une salle dédiée à la naissance)\, ce projet invite le visiteur à traverser toutes les phases qui peuvent jalonner une vie. \nOn voit ainsi des corps et des visages «fixés» par la peinture\, la photographie et la vidéo notamment\, comme arrêtés dans l’une des phases de leur existence. Vieillesse\, fleur de l’âge\, adolescence\, petite enfance\, venue au monde\, forment les grands chapitres de ce projet réalisé à partir du fonds conservé au MAMCS. De Renoir à Sarah Jones\, de Muybridge à Marlene Dumas\, le projet accueille aussi en écho plusieurs pièces prêtées par les musées du réseau strasbourgeois\, tissant de nouveaux liens entre les collections des établissements. \nCommissariat : Estelle Pietrzyk\, conservatrice en chef du MAMCS\, Thierry Laps\, assistant scientifique
URL:https://actu.art/event/le-temps-retourne-au-fil-des-ages-de-la-vie/
LOCATION:Musée d’Art Moderne et Contemporain de Strasbourg\, 1\, place Hans-Jean Arp\,\, Strasbourg\, Bas-Rhin\, 67000\, France
CATEGORIES:Expositions Temporaires
ATTACH;FMTTYPE=image/jpeg:https://actu.art/wp-content/uploads/2026/03/Le_temps_retourne_Au_fil_des_ages_de_la_vie.jpg
GEO:48.5792081;7.7364913
X-APPLE-STRUCTURED-LOCATION;VALUE=URI;X-ADDRESS=Musée d’Art Moderne et Contemporain de Strasbourg 1 place Hans-Jean Arp Strasbourg Bas-Rhin 67000 France;X-APPLE-RADIUS=500;X-TITLE=1\, place Hans-Jean Arp\,:geo:7.7364913,48.5792081
END:VEVENT
END:VCALENDAR