BEGIN:VCALENDAR
VERSION:2.0
PRODID:-//Actu.Art - ECPv6.15.13//NONSGML v1.0//EN
CALSCALE:GREGORIAN
METHOD:PUBLISH
X-WR-CALNAME:Actu.Art
X-ORIGINAL-URL:https://actu.art
X-WR-CALDESC:Évènements pour Actu.Art
BEGIN:VTIMEZONE
TZID:Europe/Paris
BEGIN:DAYLIGHT
TZOFFSETFROM:+0100
TZOFFSETTO:+0200
TZNAME:CEST
DTSTART:20250330T010000
END:DAYLIGHT
BEGIN:STANDARD
TZOFFSETFROM:+0200
TZOFFSETTO:+0100
TZNAME:CET
DTSTART:20251026T010000
END:STANDARD
BEGIN:DAYLIGHT
TZOFFSETFROM:+0100
TZOFFSETTO:+0200
TZNAME:CEST
DTSTART:20260329T010000
END:DAYLIGHT
BEGIN:STANDARD
TZOFFSETFROM:+0200
TZOFFSETTO:+0100
TZNAME:CET
DTSTART:20261025T010000
END:STANDARD
BEGIN:DAYLIGHT
TZOFFSETFROM:+0100
TZOFFSETTO:+0200
TZNAME:CEST
DTSTART:20270328T010000
END:DAYLIGHT
BEGIN:STANDARD
TZOFFSETFROM:+0200
TZOFFSETTO:+0100
TZNAME:CET
DTSTART:20271031T010000
END:STANDARD
END:VTIMEZONE
BEGIN:VEVENT
DTSTART;TZID=Europe/Paris:20260424T093000
DTEND;TZID=Europe/Paris:20261031T180000
DTSTAMP:20260423T083001
CREATED:20260421T213229Z
LAST-MODIFIED:20260421T213229Z
UID:144210-1777023000-1793469600@actu.art
SUMMARY:Le passage de Vénus
DESCRIPTION:La Vénus d’Arles rend visite à son public au musée départemental Arles antique\, grâce à un prêt exceptionnel du musée du Louvre.\nExposition ayant obtenu le label “Exposition d’intérêt national” avec le soutien exceptionnel de l’état – ministère de la Culture et de la Communication. \nL’admirable sculpture connue sous le nom de Vénus d’Arles est l’un des puissants échos de l’œuvre de Praxitèle\, ce sculpteur grec qui\, au IVe siècle avant notre ère\, osa révéler la nudité d’Aphrodite. Réalisée au Ier siècle avant notre ère\, cette remarquable copie romaine fut découverte à Arles en 1651 dans les ruines du théâtre antique\, un événement qui passionna immédiatement les connaisseurs. D’abord identifiée comme Diane\, elle fut rebaptisée\, à raison\, Vénus par Louis XIV\, qui souhaita se la faire offrir par la ville et l’accueillir à Versailles. Conservée au Louvre depuis plus de deux siècles\, aujourd’hui installée à proximité de la Vénus de Milo\, elle demeure l’une des œuvres phares du musée. \nCette œuvre exceptionnelle sera présentée dans une exposition coproduite par le musée départemental Arles antique et le musée du Louvre. Elle sera entourée d’un cortège de chefs-d’œuvre de diverses époques\, d’antiques Aphrodite ou de plus modernes\, peintes par Gustave Moreau\, photographiées par Man Ray ou détournées par Andy Warhol\, illustrant le prestige persistant de Vénus et les pouvoirs qu’elle continue d’incarner. \nCe prêt exceptionnel du musée du Louvre\, accompagné de près de quatre-vingts œuvres majeures dont trente-trois choisies dans ses propres collections\, ainsi que la scénographie conçue par Nathalie Crinière\, font de cette exposition un événement. Y sont rassemblés des objets issus de techniques et d’époques variées\, de l’Antiquité à nos jours.
URL:https://actu.art/event/le-passage-de-venus/
LOCATION:Musée départemental Arles Antique\, Presqu'île du Cirque Romain\, Arles\, Bouches-du-Rhône\, 13200
CATEGORIES:Expositions Temporaires
END:VEVENT
END:VCALENDAR