BEGIN:VCALENDAR
VERSION:2.0
PRODID:-//Actu.Art - ECPv6.15.13//NONSGML v1.0//EN
CALSCALE:GREGORIAN
METHOD:PUBLISH
X-WR-CALNAME:Actu.Art
X-ORIGINAL-URL:https://actu.art
X-WR-CALDESC:Évènements pour Actu.Art
BEGIN:VTIMEZONE
TZID:Europe/Paris
BEGIN:DAYLIGHT
TZOFFSETFROM:+0100
TZOFFSETTO:+0200
TZNAME:CEST
DTSTART:20250330T010000
END:DAYLIGHT
BEGIN:STANDARD
TZOFFSETFROM:+0200
TZOFFSETTO:+0100
TZNAME:CET
DTSTART:20251026T010000
END:STANDARD
BEGIN:DAYLIGHT
TZOFFSETFROM:+0100
TZOFFSETTO:+0200
TZNAME:CEST
DTSTART:20260329T010000
END:DAYLIGHT
BEGIN:STANDARD
TZOFFSETFROM:+0200
TZOFFSETTO:+0100
TZNAME:CET
DTSTART:20261025T010000
END:STANDARD
BEGIN:DAYLIGHT
TZOFFSETFROM:+0100
TZOFFSETTO:+0200
TZNAME:CEST
DTSTART:20270328T010000
END:DAYLIGHT
BEGIN:STANDARD
TZOFFSETFROM:+0200
TZOFFSETTO:+0100
TZNAME:CET
DTSTART:20271031T010000
END:STANDARD
END:VTIMEZONE
BEGIN:VEVENT
DTSTART;TZID=Europe/Paris:20260318T110000
DTEND;TZID=Europe/Paris:20260628T180000
DTSTAMP:20260420T172455
CREATED:20260319T203722Z
LAST-MODIFIED:20260321T211220Z
UID:141065-1773831600-1782669600@actu.art
SUMMARY:Le langage des murs : Estampages de la Chine à Notre-Dame
DESCRIPTION:Du 18 mars au 28 juin 2026\, le musée des Arts décoratifs présente au moment du Salon du dessin et du Printemps asiatique « Le langage des murs. Estampages de la Chine à Notre-Dame » quatrième focus exposé au cabinet des Dessins\, Papiers peints et Photographies. \nL’exposition-focus illustre la pratique de l’estampage à travers une sélection inédite des collections chinoise et française du musée des Arts décoratifs\, d’Eugène Grasset à Jean Dubuffet en passant par Émile-Auguste Reiber. \nÀ cette occasion\, le musée invite Santiago Hardy\, cordiste\, et Delphine Syvilay\, ingénieure de recherche au Laboratoire de Recherche des Monuments Historiques (LRMH) à présenter les estampages qu’ils ont réalisés lors du chantier de restauration de Notre-Dame de Paris. La présence des outils permet d’appréhender la technique pratiquée en Chine et celle utilisée sur les murs de la cathédrale. Une centaine d’œuvres et d’objets illustre ainsi cette mise en regard de la technique de l’estampage ancienne et contemporaine et ses qualités techniques\, esthétiques\, poétiques.
URL:https://actu.art/event/le-langage-des-murs-estampages-de-la-chine-a-notre-dame/
LOCATION:Musée des Arts Décoratifs\, 107\, rue de Rivoli\, Paris\, Paris\, 75001\, France
CATEGORIES:Expositions Temporaires
ATTACH;FMTTYPE=image/jpeg:https://actu.art/wp-content/uploads/2026/03/Le_langage_des_murs_Estampages_de_la_Chine_a_Notre_Dame.jpg
GEO:48.863091;2.333307
X-APPLE-STRUCTURED-LOCATION;VALUE=URI;X-ADDRESS=Musée des Arts Décoratifs 107 rue de Rivoli Paris Paris 75001 France;X-APPLE-RADIUS=500;X-TITLE=107\, rue de Rivoli:geo:2.333307,48.863091
END:VEVENT
END:VCALENDAR