BEGIN:VCALENDAR
VERSION:2.0
PRODID:-//Actu.Art - ECPv6.15.13//NONSGML v1.0//EN
CALSCALE:GREGORIAN
METHOD:PUBLISH
X-WR-CALNAME:Actu.Art
X-ORIGINAL-URL:https://actu.art
X-WR-CALDESC:Évènements pour Actu.Art
BEGIN:VTIMEZONE
TZID:Europe/Paris
BEGIN:DAYLIGHT
TZOFFSETFROM:+0100
TZOFFSETTO:+0200
TZNAME:CEST
DTSTART:20230326T010000
END:DAYLIGHT
BEGIN:STANDARD
TZOFFSETFROM:+0200
TZOFFSETTO:+0100
TZNAME:CET
DTSTART:20231029T010000
END:STANDARD
BEGIN:DAYLIGHT
TZOFFSETFROM:+0100
TZOFFSETTO:+0200
TZNAME:CEST
DTSTART:20240331T010000
END:DAYLIGHT
BEGIN:STANDARD
TZOFFSETFROM:+0200
TZOFFSETTO:+0100
TZNAME:CET
DTSTART:20241027T010000
END:STANDARD
BEGIN:DAYLIGHT
TZOFFSETFROM:+0100
TZOFFSETTO:+0200
TZNAME:CEST
DTSTART:20250330T010000
END:DAYLIGHT
BEGIN:STANDARD
TZOFFSETFROM:+0200
TZOFFSETTO:+0100
TZNAME:CET
DTSTART:20251026T010000
END:STANDARD
BEGIN:DAYLIGHT
TZOFFSETFROM:+0100
TZOFFSETTO:+0200
TZNAME:CEST
DTSTART:20260329T010000
END:DAYLIGHT
BEGIN:STANDARD
TZOFFSETFROM:+0200
TZOFFSETTO:+0100
TZNAME:CET
DTSTART:20261025T010000
END:STANDARD
END:VTIMEZONE
BEGIN:VEVENT
DTSTART;VALUE=DATE:20240614
DTEND;VALUE=DATE:20250113
DTSTAMP:20260424T202007
CREATED:20240601T212231Z
LAST-MODIFIED:20241106T205239Z
UID:87352-1718323200-1736726340@actu.art
SUMMARY:Le crin dans tous ses éclats
DESCRIPTION:L’exposition aborde le crin de cheval comme fibre textile au cœur d’un savoir-faire spécifique\, et insiste sur ses spécificités techniques et les étapes de son tissage. Rassemblant une soixantaine d’œuvres et d’objets\, elle évoque la manière dont le crin est un matériau singulier\, présent dans différentes sphères de la vie quotidienne.
URL:https://actu.art/event/le-crin-dans-tous-ses-eclats/
LOCATION:Musée de la Toile de Jouy\, 54 rue Charles-de-Gaulle\, Jouy-en-Josas\, Yvelines\, 78350\, France
CATEGORIES:Expositions
ATTACH;FMTTYPE=image/jpeg:https://actu.art/wp-content/uploads/2024/06/Le_crin_dans_tous_ses_eclats.jpg
GEO:48.7691256;2.1533358
X-APPLE-STRUCTURED-LOCATION;VALUE=URI;X-ADDRESS=Musée de la Toile de Jouy 54 rue Charles-de-Gaulle Jouy-en-Josas Yvelines 78350 France;X-APPLE-RADIUS=500;X-TITLE=54 rue Charles-de-Gaulle:geo:2.1533358,48.7691256
END:VEVENT
END:VCALENDAR