BEGIN:VCALENDAR
VERSION:2.0
PRODID:-//Actu.Art - ECPv6.15.13//NONSGML v1.0//EN
CALSCALE:GREGORIAN
METHOD:PUBLISH
X-WR-CALNAME:Actu.Art
X-ORIGINAL-URL:https://actu.art
X-WR-CALDESC:Évènements pour Actu.Art
BEGIN:VTIMEZONE
TZID:Europe/Paris
BEGIN:DAYLIGHT
TZOFFSETFROM:+0100
TZOFFSETTO:+0200
TZNAME:CEST
DTSTART:20240331T010000
END:DAYLIGHT
BEGIN:STANDARD
TZOFFSETFROM:+0200
TZOFFSETTO:+0100
TZNAME:CET
DTSTART:20241027T010000
END:STANDARD
BEGIN:DAYLIGHT
TZOFFSETFROM:+0100
TZOFFSETTO:+0200
TZNAME:CEST
DTSTART:20250330T010000
END:DAYLIGHT
BEGIN:STANDARD
TZOFFSETFROM:+0200
TZOFFSETTO:+0100
TZNAME:CET
DTSTART:20251026T010000
END:STANDARD
BEGIN:DAYLIGHT
TZOFFSETFROM:+0100
TZOFFSETTO:+0200
TZNAME:CEST
DTSTART:20260329T010000
END:DAYLIGHT
BEGIN:STANDARD
TZOFFSETFROM:+0200
TZOFFSETTO:+0100
TZNAME:CET
DTSTART:20261025T010000
END:STANDARD
END:VTIMEZONE
BEGIN:VEVENT
DTSTART;TZID=Europe/Paris:20251103T100000
DTEND;TZID=Europe/Paris:20251109T180000
DTSTAMP:20260424T130656
CREATED:20250914T183500Z
LAST-MODIFIED:20250914T183500Z
UID:128558-1762164000-1762711200@actu.art
SUMMARY:Le collectif Diz'Arts expose à l'espace Carnot
DESCRIPTION:Les 5 artistes peintres et sculpteurs de Diz’Arts exposent à l’Espace Carnot de Châtelaillon-Plage.
URL:https://actu.art/event/le-collectif-dizarts-expose-a-lespace-carnot/
LOCATION:Espace Carnot\, Rue Carnot\, Châtelaillon-Plage\, Charente-Maritime\, 17340\, France
CATEGORIES:Expositions
ATTACH;FMTTYPE=image/jpeg:https://actu.art/wp-content/uploads/2025/09/Le_collectif_Diz_Arts_expose_a_l_espace_Carnot.jpg
GEO:46.069676;-1.088543
X-APPLE-STRUCTURED-LOCATION;VALUE=URI;X-ADDRESS=Espace Carnot Rue Carnot Châtelaillon-Plage Charente-Maritime 17340 France;X-APPLE-RADIUS=500;X-TITLE=Rue Carnot:geo:-1.088543,46.069676
END:VEVENT
END:VCALENDAR