BEGIN:VCALENDAR
VERSION:2.0
PRODID:-//Actu.Art - ECPv6.15.13//NONSGML v1.0//EN
CALSCALE:GREGORIAN
METHOD:PUBLISH
X-WR-CALNAME:Actu.Art
X-ORIGINAL-URL:https://actu.art
X-WR-CALDESC:Évènements pour Actu.Art
BEGIN:VTIMEZONE
TZID:Europe/Paris
BEGIN:DAYLIGHT
TZOFFSETFROM:+0100
TZOFFSETTO:+0200
TZNAME:CEST
DTSTART:20190331T010000
END:DAYLIGHT
BEGIN:STANDARD
TZOFFSETFROM:+0200
TZOFFSETTO:+0100
TZNAME:CET
DTSTART:20191027T010000
END:STANDARD
BEGIN:DAYLIGHT
TZOFFSETFROM:+0100
TZOFFSETTO:+0200
TZNAME:CEST
DTSTART:20200329T010000
END:DAYLIGHT
BEGIN:STANDARD
TZOFFSETFROM:+0200
TZOFFSETTO:+0100
TZNAME:CET
DTSTART:20201025T010000
END:STANDARD
BEGIN:DAYLIGHT
TZOFFSETFROM:+0100
TZOFFSETTO:+0200
TZNAME:CEST
DTSTART:20210328T010000
END:DAYLIGHT
BEGIN:STANDARD
TZOFFSETFROM:+0200
TZOFFSETTO:+0100
TZNAME:CET
DTSTART:20211031T010000
END:STANDARD
BEGIN:DAYLIGHT
TZOFFSETFROM:+0100
TZOFFSETTO:+0200
TZNAME:CEST
DTSTART:20220327T010000
END:DAYLIGHT
BEGIN:STANDARD
TZOFFSETFROM:+0200
TZOFFSETTO:+0100
TZNAME:CET
DTSTART:20221030T010000
END:STANDARD
END:VTIMEZONE
BEGIN:VEVENT
DTSTART;TZID=Europe/Paris:20200922T100000
DTEND;TZID=Europe/Paris:20210103T180000
DTSTAMP:20260426T024215
CREATED:20200529T225858Z
LAST-MODIFIED:20200529T225858Z
UID:21053-1600768800-1609696800@actu.art
SUMMARY:L’Âge d'or de la peinture danoise (1801-1864)
DESCRIPTION:(Les dates de l’exposition sont susceptibles d’être modifiées) Le Petit Palais présentera pour la première fois en France depuis près de trente-cinq ans une exposition dédiée aux plus belles heures de la peinture danoise de 1800 à 1864.\nL’exposition organisée conjointement par le Nationalmuseum de Stockholm\, le SMK de Copenhague et le Petit Palais inclue plus de 200 oeuvres d’artistes phares de cette période comme Christoffer Eckersberg\, Christen Købke\, Martinus Rørbye ou encore Constantin Hansen. Cette exposition offre l’une des analyses les plus ambitieuses de cette période artistique entreprises depuis de nombreuses années. L’accrochage se concentre sur un certain nombre de thèmes clés ayant trait aux conditions sociales\, politiques\, économiques et culturelles du Danemark au XIXe siècle et offre \nun panorama de sujets familiers tels que la vie à Copenhague\, l’artiste au travail\, le voyage\, la peinture de paysages ou encore la famille. Peintures précises et délicates\, ces oeuvres offrent une plongée dans le Danemark du XIXe. \nExposition organisée en collaboration avec le Statens Museum for Kunst\, Copenhague et le Nationalmuseum\, Stokholm
URL:https://actu.art/event/lage-dor-de-la-peinture-danoise-1801-1864/
LOCATION:Petit Palais\, Musée des Beaux-Arts de la ville de Paris\, 6\, Avenue Winston Churchill\, Paris\, Paris\, 75008\, France
CATEGORIES:Notre Sélection
ATTACH;FMTTYPE=image/jpeg:https://actu.art/wp-content/uploads/2020/05/Lage-dor-de-la-peinture-danoise.jpg
GEO:48.8660773;2.3138827
X-APPLE-STRUCTURED-LOCATION;VALUE=URI;X-ADDRESS=Petit Palais Musée des Beaux-Arts de la ville de Paris 6 Avenue Winston Churchill Paris Paris 75008 France;X-APPLE-RADIUS=500;X-TITLE=6\, Avenue Winston Churchill:geo:2.3138827,48.8660773
END:VEVENT
END:VCALENDAR