BEGIN:VCALENDAR
VERSION:2.0
PRODID:-//Actu.Art - ECPv6.15.13//NONSGML v1.0//EN
CALSCALE:GREGORIAN
METHOD:PUBLISH
X-WR-CALNAME:Actu.Art
X-ORIGINAL-URL:https://actu.art
X-WR-CALDESC:Évènements pour Actu.Art
BEGIN:VTIMEZONE
TZID:Europe/Paris
BEGIN:DAYLIGHT
TZOFFSETFROM:+0100
TZOFFSETTO:+0200
TZNAME:CEST
DTSTART:20180325T010000
END:DAYLIGHT
BEGIN:STANDARD
TZOFFSETFROM:+0200
TZOFFSETTO:+0100
TZNAME:CET
DTSTART:20181028T010000
END:STANDARD
BEGIN:DAYLIGHT
TZOFFSETFROM:+0100
TZOFFSETTO:+0200
TZNAME:CEST
DTSTART:20190331T010000
END:DAYLIGHT
BEGIN:STANDARD
TZOFFSETFROM:+0200
TZOFFSETTO:+0100
TZNAME:CET
DTSTART:20191027T010000
END:STANDARD
BEGIN:DAYLIGHT
TZOFFSETFROM:+0100
TZOFFSETTO:+0200
TZNAME:CEST
DTSTART:20200329T010000
END:DAYLIGHT
BEGIN:STANDARD
TZOFFSETFROM:+0200
TZOFFSETTO:+0100
TZNAME:CET
DTSTART:20201025T010000
END:STANDARD
BEGIN:DAYLIGHT
TZOFFSETFROM:+0100
TZOFFSETTO:+0200
TZNAME:CEST
DTSTART:20210328T010000
END:DAYLIGHT
BEGIN:STANDARD
TZOFFSETFROM:+0200
TZOFFSETTO:+0100
TZNAME:CET
DTSTART:20211031T010000
END:STANDARD
END:VTIMEZONE
BEGIN:VEVENT
DTSTART;TZID=Europe/Paris:20190911T103000
DTEND;TZID=Europe/Paris:20200216T190000
DTSTAMP:20260424T181332
CREATED:20190224T165953Z
LAST-MODIFIED:20191019T113659Z
UID:6870-1568197800-1581879600@actu.art
SUMMARY:L’âge d’or de la peinture anglaise\, de Reynolds à Turner
DESCRIPTION:Cette exposition\, exclusivement constituée à partir des chefs-d’œuvre de la Tate\, raconte une période parmi les plus brillantes de l’histoire de l’art anglais\, allant des années 1760 aux années 1820. Elle brosse un panorama qui vous mènera de la génération de peintres comme Reynolds et Gainsborough à celle de Turner\, en mettant en évidence l’originalité et la diversité de leur production.
URL:https://actu.art/event/lage-dor-de-la-peinture-anglaise-gainsborough-reynolds-turner/
LOCATION:Musée du Luxembourg\, 19 Rue de Vaugirard\, Paris\, Paris\, 75006\, France
CATEGORIES:Notre Sélection
ATTACH;FMTTYPE=image/jpeg:https://actu.art/wp-content/uploads/2019/02/Lage-dor-de-la-peinture-anglaise.jpg
GEO:48.848440245683;2.3340529203415
X-APPLE-STRUCTURED-LOCATION;VALUE=URI;X-ADDRESS=Musée du Luxembourg 19 Rue de Vaugirard Paris Paris 75006 France;X-APPLE-RADIUS=500;X-TITLE=19 Rue de Vaugirard:geo:2.3340529203415,48.848440245683
END:VEVENT
END:VCALENDAR