BEGIN:VCALENDAR
VERSION:2.0
PRODID:-//Actu.Art - ECPv6.15.13//NONSGML v1.0//EN
CALSCALE:GREGORIAN
METHOD:PUBLISH
X-WR-CALNAME:Actu.Art
X-ORIGINAL-URL:https://actu.art
X-WR-CALDESC:Évènements pour Actu.Art
BEGIN:VTIMEZONE
TZID:Europe/Paris
BEGIN:DAYLIGHT
TZOFFSETFROM:+0100
TZOFFSETTO:+0200
TZNAME:CEST
DTSTART:20250330T010000
END:DAYLIGHT
BEGIN:STANDARD
TZOFFSETFROM:+0200
TZOFFSETTO:+0100
TZNAME:CET
DTSTART:20251026T010000
END:STANDARD
BEGIN:DAYLIGHT
TZOFFSETFROM:+0100
TZOFFSETTO:+0200
TZNAME:CEST
DTSTART:20260329T010000
END:DAYLIGHT
BEGIN:STANDARD
TZOFFSETFROM:+0200
TZOFFSETTO:+0100
TZNAME:CET
DTSTART:20261025T010000
END:STANDARD
BEGIN:DAYLIGHT
TZOFFSETFROM:+0100
TZOFFSETTO:+0200
TZNAME:CEST
DTSTART:20270328T010000
END:DAYLIGHT
BEGIN:STANDARD
TZOFFSETFROM:+0200
TZOFFSETTO:+0100
TZNAME:CET
DTSTART:20271031T010000
END:STANDARD
END:VTIMEZONE
BEGIN:VEVENT
DTSTART;TZID=Europe/Paris:20260420T203000
DTEND;TZID=Europe/Paris:20260420T220000
DTSTAMP:20260422T184140
CREATED:20260421T213937Z
LAST-MODIFIED:20260421T213937Z
UID:144225-1776717000-1776722400@actu.art
SUMMARY:L’acte créateur – Du réel à l’abstraction\, un chemin de spiritualité
DESCRIPTION:Conférence de Claire Bazil\, peintre\, sur le passage du figuratif à l’abstraction. Un échange sensible autour de l’émotion et du regard. En présentiel ou à distance\, suivi d’un moment convivial et présentation de son exposition « En chemin… ».Participation libre sur inscription. Conférence à suivre en présentiel au Centre\, suivie d’un temps convivial\, ou en direct à distance. \nEn partenariat avec l’association Foi et Culture Scientifique (FCS)\, le Centre Teilhard de Chardin a le plaisir de recevoir\, le mercredi 20 mai à 20h30\, Claire Bazil\, artiste peintre. \nProfondément attachée à la couleur\, son univers pictural se situe à la frontière du réel et de l’abstrait. À travers son parcours et l’influence de grands maîtres tels que Vassily Kandinsky\, Mark Rothko ou Olivier Mérijon\, elle propose une réflexion sensible sur l’évolution de l’art figuratif vers l’abstraction. \nCette transformation\, souvent naturelle dans le cheminement d’un peintre\, ouvre une voie passionnante vers l’essentiel. Elle soulève également de nombreuses questions : comment une image peut-elle évoluer au-delà du visible ? Quelle place pour l’émotion\, la perception\, le partage ? \nAutant de thèmes qui nourriront les échanges avec le public\, car pour Claire\, l’art est avant tout un espace de communion et de dialogue. \nÀ l’issue de la conférence\, elle présentera les œuvres de son exposition « En chemin… »\, visible au Centre Teilhard de Chardin à partir du 13 mai. \nAprès une formation en école d’art\, Claire Bazil développe depuis de nombreuses années une pratique artistique riche et engagée. Elle a animé de nombreux ateliers\, tant auprès des enfants que des adultes\, transmettant sa passion avec générosité. Depuis 2000\, son travail est régulièrement exposé en région parisienne comme en province.
URL:https://actu.art/event/lacte-createur-du-reel-a-labstraction-un-chemin-de-spiritualite/
LOCATION:Centre Teilhard de Chardin\, 12 rue Francis Perrin\, Gif-sur-Yvette\, Essonne\, 91190
CATEGORIES:Conférences
ATTACH;FMTTYPE=image/jpeg:https://actu.art/wp-content/uploads/2026/04/L_acte_createur_Du_reel_a_l_abstraction_un_chemin_de_spiritualite.jpg
END:VEVENT
END:VCALENDAR