BEGIN:VCALENDAR
VERSION:2.0
PRODID:-//Actu.Art - ECPv6.15.13//NONSGML v1.0//EN
CALSCALE:GREGORIAN
METHOD:PUBLISH
X-WR-CALNAME:Actu.Art
X-ORIGINAL-URL:https://actu.art
X-WR-CALDESC:Évènements pour Actu.Art
BEGIN:VTIMEZONE
TZID:Europe/Paris
BEGIN:DAYLIGHT
TZOFFSETFROM:+0100
TZOFFSETTO:+0200
TZNAME:CEST
DTSTART:20240331T010000
END:DAYLIGHT
BEGIN:STANDARD
TZOFFSETFROM:+0200
TZOFFSETTO:+0100
TZNAME:CET
DTSTART:20241027T010000
END:STANDARD
BEGIN:DAYLIGHT
TZOFFSETFROM:+0100
TZOFFSETTO:+0200
TZNAME:CEST
DTSTART:20250330T010000
END:DAYLIGHT
BEGIN:STANDARD
TZOFFSETFROM:+0200
TZOFFSETTO:+0100
TZNAME:CET
DTSTART:20251026T010000
END:STANDARD
BEGIN:DAYLIGHT
TZOFFSETFROM:+0100
TZOFFSETTO:+0200
TZNAME:CEST
DTSTART:20260329T010000
END:DAYLIGHT
BEGIN:STANDARD
TZOFFSETFROM:+0200
TZOFFSETTO:+0100
TZNAME:CET
DTSTART:20261025T010000
END:STANDARD
END:VTIMEZONE
BEGIN:VEVENT
DTSTART;VALUE=DATE:20250722
DTEND;VALUE=DATE:20250804
DTSTAMP:20260421T213058
CREATED:20250801T142558Z
LAST-MODIFIED:20250801T142558Z
UID:124595-1753142400-1754265599@actu.art
SUMMARY:La quinzaine des photographes
DESCRIPTION:Dans le cadre du festival La quinzaine des photographes\, 8 artistes exposeront leur travail au cours d’une exposition.\nCette exposition mêlera projections au cinéma Le Colbert\, ateliers\, soirées et l’exposition des clichés sur le thème de la lecture dans les vitrines des commerçants.\nTous les jours de 13h à 19h  sauf le lundi  & le samedi durant le marché.
URL:https://actu.art/event/la-quinzaine-des-photographes/
LOCATION:Salle des Conférences\, Esplanade Charles de Gaulle\, Aubusson\, Creuse\, 23200\, France
CATEGORIES:Expositions
ATTACH;FMTTYPE=image/jpeg:https://actu.art/wp-content/uploads/2025/07/La_quinzaine_des_photographes.jpg
GEO:45.9551376;2.1660944
X-APPLE-STRUCTURED-LOCATION;VALUE=URI;X-ADDRESS=Salle des Conférences Esplanade Charles de Gaulle Aubusson Creuse 23200 France;X-APPLE-RADIUS=500;X-TITLE=Esplanade Charles de Gaulle:geo:2.1660944,45.9551376
END:VEVENT
END:VCALENDAR