BEGIN:VCALENDAR
VERSION:2.0
PRODID:-//Actu.Art - ECPv6.15.13//NONSGML v1.0//EN
CALSCALE:GREGORIAN
METHOD:PUBLISH
X-WR-CALNAME:Actu.Art
X-ORIGINAL-URL:https://actu.art
X-WR-CALDESC:Évènements pour Actu.Art
BEGIN:VTIMEZONE
TZID:Europe/Paris
BEGIN:DAYLIGHT
TZOFFSETFROM:+0100
TZOFFSETTO:+0200
TZNAME:CEST
DTSTART:20180325T010000
END:DAYLIGHT
BEGIN:STANDARD
TZOFFSETFROM:+0200
TZOFFSETTO:+0100
TZNAME:CET
DTSTART:20181028T010000
END:STANDARD
BEGIN:DAYLIGHT
TZOFFSETFROM:+0100
TZOFFSETTO:+0200
TZNAME:CEST
DTSTART:20190331T010000
END:DAYLIGHT
BEGIN:STANDARD
TZOFFSETFROM:+0200
TZOFFSETTO:+0100
TZNAME:CET
DTSTART:20191027T010000
END:STANDARD
BEGIN:DAYLIGHT
TZOFFSETFROM:+0100
TZOFFSETTO:+0200
TZNAME:CEST
DTSTART:20200329T010000
END:DAYLIGHT
BEGIN:STANDARD
TZOFFSETFROM:+0200
TZOFFSETTO:+0100
TZNAME:CET
DTSTART:20201025T010000
END:STANDARD
END:VTIMEZONE
BEGIN:VEVENT
DTSTART;TZID=Europe/Paris:20190625T093000
DTEND;TZID=Europe/Paris:20190922T180000
DTSTAMP:20260424T090125
CREATED:20190912T194954Z
LAST-MODIFIED:20190914T192634Z
UID:16584-1561455000-1569175200@actu.art
SUMMARY:La peur d'aimer
DESCRIPTION:Tracey Emin est une artiste britannique qui n’a eu de cesse de placer le dessin au cœur de son travail\, faisant du trait son unique moyen d’expression. Mondialement connue\, elle a exposé dans de nombreuses expositions et a même été Professeur de dessin à la Royal Academy of Arts de Londres en 2011. Pour sa première exposition dans une institution française majeure\, le Musée d’Orsay\, elle a décidé de faire dialoguer ses propres œuvres avec des esquisses exceptionnelles issues du fonds d’art graphique du musée\, dont certaines n’ont d’ailleurs jamais été montrées au public. Edgar Degas\, Georges Lacombe\, Jules Lefebvre et même Paul Gauguin sont ainsi confrontés à un ensemble de ses dessins qui ont tous pour thème commun l’amour. Corps imparfaits ou bien formés\, animaux et humains sont placés au centre de sa sélection de trente dessins. Dans cet accrochage émouvant\, Tracey Emin nous présente sa « peur d’aimer »\, grâce à laquelle nous pouvons découvrir une nouvelle partie\, encore inconnue\, des chefs-d’œuvre du prestigieux musée parisien.
URL:https://actu.art/event/la-peur-daimer/
LOCATION:Musée d’Orsay\, Esplanade Valéry Giscard d'Estaing\, Paris\, Paris\, 75007\, France
CATEGORIES:Notre Sélection
ATTACH;FMTTYPE=image/jpeg:https://actu.art/wp-content/uploads/2019/09/La-peur-daimer-Tracey-Emin.jpg
GEO:48.8601715;2.326074
X-APPLE-STRUCTURED-LOCATION;VALUE=URI;X-ADDRESS=Musée d’Orsay Esplanade Valéry Giscard d'Estaing Paris Paris 75007 France;X-APPLE-RADIUS=500;X-TITLE=Esplanade Valéry Giscard d'Estaing:geo:2.326074,48.8601715
END:VEVENT
END:VCALENDAR