BEGIN:VCALENDAR
VERSION:2.0
PRODID:-//Actu.Art - ECPv6.15.13//NONSGML v1.0//EN
CALSCALE:GREGORIAN
METHOD:PUBLISH
X-WR-CALNAME:Actu.Art
X-ORIGINAL-URL:https://actu.art
X-WR-CALDESC:Évènements pour Actu.Art
BEGIN:VTIMEZONE
TZID:Europe/Paris
BEGIN:DAYLIGHT
TZOFFSETFROM:+0100
TZOFFSETTO:+0200
TZNAME:CEST
DTSTART:20200329T010000
END:DAYLIGHT
BEGIN:STANDARD
TZOFFSETFROM:+0200
TZOFFSETTO:+0100
TZNAME:CET
DTSTART:20201025T010000
END:STANDARD
BEGIN:DAYLIGHT
TZOFFSETFROM:+0100
TZOFFSETTO:+0200
TZNAME:CEST
DTSTART:20210328T010000
END:DAYLIGHT
BEGIN:STANDARD
TZOFFSETFROM:+0200
TZOFFSETTO:+0100
TZNAME:CET
DTSTART:20211031T010000
END:STANDARD
BEGIN:DAYLIGHT
TZOFFSETFROM:+0100
TZOFFSETTO:+0200
TZNAME:CEST
DTSTART:20220327T010000
END:DAYLIGHT
BEGIN:STANDARD
TZOFFSETFROM:+0200
TZOFFSETTO:+0100
TZNAME:CET
DTSTART:20221030T010000
END:STANDARD
BEGIN:DAYLIGHT
TZOFFSETFROM:+0100
TZOFFSETTO:+0200
TZNAME:CEST
DTSTART:20230326T010000
END:DAYLIGHT
BEGIN:STANDARD
TZOFFSETFROM:+0200
TZOFFSETTO:+0100
TZNAME:CET
DTSTART:20231029T010000
END:STANDARD
END:VTIMEZONE
BEGIN:VEVENT
DTSTART;TZID=Europe/Paris:20211214T103000
DTEND;TZID=Europe/Paris:20220410T190000
DTSTAMP:20260425T022714
CREATED:20210906T205500Z
LAST-MODIFIED:20211220T210608Z
UID:36109-1639477800-1649617200@actu.art
SUMMARY:La Part de l'ombre - Sculptures du sud-ouest du Congo
DESCRIPTION:Cette exposition met en lumière le Bandundu\, ancienne province de la République Démocratique du Congo. Le parcours dévoile ainsi une production artistique qui provient d’une région riche mais encore méconnue du grand public. Plus de 160 œuvres\, qui datent pour la plupart des années 1875-1950\, sont ici à découvrir. Un grand nombre d’entre elles n’ont encore jamais été exposées. Le parcours veut redonner toutes ses lettres de noblesse à la statuaire en bois congolaise.
URL:https://actu.art/event/la-part-de-lombre-sculptures-du-sud-ouest-du-congo/
LOCATION:Musée Quai Branly-Jacques Chirac\, 37 Quai Branly\, Paris\, Paris\, 75007\, France
CATEGORIES:Notre Sélection
ATTACH;FMTTYPE=image/jpeg:https://actu.art/wp-content/uploads/2021/09/La-part-de-lOmbre-527x800-1.jpg
GEO:48.8608889;2.297894
X-APPLE-STRUCTURED-LOCATION;VALUE=URI;X-ADDRESS=Musée Quai Branly-Jacques Chirac 37 Quai Branly Paris Paris 75007 France;X-APPLE-RADIUS=500;X-TITLE=37 Quai Branly:geo:2.297894,48.8608889
END:VEVENT
END:VCALENDAR