BEGIN:VCALENDAR
VERSION:2.0
PRODID:-//Actu.Art - ECPv6.15.13//NONSGML v1.0//EN
CALSCALE:GREGORIAN
METHOD:PUBLISH
X-WR-CALNAME:Actu.Art
X-ORIGINAL-URL:https://actu.art
X-WR-CALDESC:Évènements pour Actu.Art
BEGIN:VTIMEZONE
TZID:Europe/Paris
BEGIN:DAYLIGHT
TZOFFSETFROM:+0100
TZOFFSETTO:+0200
TZNAME:CEST
DTSTART:20250330T010000
END:DAYLIGHT
BEGIN:STANDARD
TZOFFSETFROM:+0200
TZOFFSETTO:+0100
TZNAME:CET
DTSTART:20251026T010000
END:STANDARD
BEGIN:DAYLIGHT
TZOFFSETFROM:+0100
TZOFFSETTO:+0200
TZNAME:CEST
DTSTART:20260329T010000
END:DAYLIGHT
BEGIN:STANDARD
TZOFFSETFROM:+0200
TZOFFSETTO:+0100
TZNAME:CET
DTSTART:20261025T010000
END:STANDARD
BEGIN:DAYLIGHT
TZOFFSETFROM:+0100
TZOFFSETTO:+0200
TZNAME:CEST
DTSTART:20270328T010000
END:DAYLIGHT
BEGIN:STANDARD
TZOFFSETFROM:+0200
TZOFFSETTO:+0100
TZNAME:CET
DTSTART:20271031T010000
END:STANDARD
END:VTIMEZONE
BEGIN:VEVENT
DTSTART;TZID=Europe/Paris:20260508T000000
DTEND;TZID=Europe/Paris:20261018T000000
DTSTAMP:20260422T203106
CREATED:20260421T210333Z
LAST-MODIFIED:20260421T210333Z
UID:144176-1778198400-1792281600@actu.art
SUMMARY:La nature n’est pas un décor
DESCRIPTION:L’exposition fait dialoguer des œuvres de Claude Monet\, à l’occasion du centenaire de sa disparition avec celles d’artistes contemporains\, déjà liés à la Maison Caillebotte pour y avoir exposé et aimé le lieu. Tous partagent une même exigence\, peindre au plus près de la sensation\, révéler les forces invisibles à l’oeuvre dans la nature. De Claude Monet aux artistes contemporains\, l’exposition réunit une soixantaine d’œuvres de : Jacques Truphémus\, Markus Lüpertz\, Érik Desmazières\, Malgorzata Paszko\, Evi Keller\, Charlotte de Maupeou\, Ronan Barrot\, Youcef Korichi.
URL:https://actu.art/event/la-nature-nest-pas-un-decor/
LOCATION:Propriété Caillebotte\, 8 Rue de Concy\, Yerres\, Essonne\, 91330\, France
CATEGORIES:Expositions
ATTACH;FMTTYPE=image/jpeg:https://actu.art/wp-content/uploads/2026/04/La_nature_n_est_pas_un_decor.jpg
GEO:48.7137724;2.4888557
X-APPLE-STRUCTURED-LOCATION;VALUE=URI;X-ADDRESS=Propriété Caillebotte 8 Rue de Concy Yerres Essonne 91330 France;X-APPLE-RADIUS=500;X-TITLE=8 Rue de Concy:geo:2.4888557,48.7137724
END:VEVENT
END:VCALENDAR