BEGIN:VCALENDAR
VERSION:2.0
PRODID:-//Actu.Art - ECPv6.15.13//NONSGML v1.0//EN
CALSCALE:GREGORIAN
METHOD:PUBLISH
X-WR-CALNAME:Actu.Art
X-ORIGINAL-URL:https://actu.art
X-WR-CALDESC:Évènements pour Actu.Art
BEGIN:VTIMEZONE
TZID:Europe/Paris
BEGIN:DAYLIGHT
TZOFFSETFROM:+0100
TZOFFSETTO:+0200
TZNAME:CEST
DTSTART:20240331T010000
END:DAYLIGHT
BEGIN:STANDARD
TZOFFSETFROM:+0200
TZOFFSETTO:+0100
TZNAME:CET
DTSTART:20241027T010000
END:STANDARD
BEGIN:DAYLIGHT
TZOFFSETFROM:+0100
TZOFFSETTO:+0200
TZNAME:CEST
DTSTART:20250330T010000
END:DAYLIGHT
BEGIN:STANDARD
TZOFFSETFROM:+0200
TZOFFSETTO:+0100
TZNAME:CET
DTSTART:20251026T010000
END:STANDARD
BEGIN:DAYLIGHT
TZOFFSETFROM:+0100
TZOFFSETTO:+0200
TZNAME:CEST
DTSTART:20260329T010000
END:DAYLIGHT
BEGIN:STANDARD
TZOFFSETFROM:+0200
TZOFFSETTO:+0100
TZNAME:CET
DTSTART:20261025T010000
END:STANDARD
END:VTIMEZONE
BEGIN:VEVENT
DTSTART;VALUE=DATE:20250613
DTEND;VALUE=DATE:20250616
DTSTAMP:20260426T042810
CREATED:20250706T203843Z
LAST-MODIFIED:20250706T203843Z
UID:121174-1749772800-1750031999@actu.art
SUMMARY:La Halle aux artistes
DESCRIPTION:À l’occasion du rassemblement des Saint Georges\, ce lieu chargé d’histoire\, situé rue de l’école\, accueille des artistes passionnés : peintres\, photographes et sculpteurs vous présentent leurs œuvres originales et variées.
URL:https://actu.art/event/la-halle-aux-artistes/
LOCATION:Galerie-atelier Alkaplan\, Rue des écoles\, Saint-Georges-Lagricol\, Haute-Loire\, 43500
CATEGORIES:Expositions Galeries
ATTACH;FMTTYPE=image/jpeg:https://actu.art/wp-content/uploads/2025/06/La_Halle_aux_artistes.jpg
GEO:45.2958939;3.887019
X-APPLE-STRUCTURED-LOCATION;VALUE=URI;X-ADDRESS=Galerie-atelier Alkaplan Rue des écoles Saint-Georges-Lagricol Haute-Loire 43500;X-APPLE-RADIUS=500;X-TITLE=Rue des écoles:geo:3.887019,45.2958939
END:VEVENT
END:VCALENDAR