BEGIN:VCALENDAR
VERSION:2.0
PRODID:-//Actu.Art - ECPv6.15.13//NONSGML v1.0//EN
CALSCALE:GREGORIAN
METHOD:PUBLISH
X-WR-CALNAME:Actu.Art
X-ORIGINAL-URL:https://actu.art
X-WR-CALDESC:Évènements pour Actu.Art
BEGIN:VTIMEZONE
TZID:Europe/Paris
BEGIN:DAYLIGHT
TZOFFSETFROM:+0100
TZOFFSETTO:+0200
TZNAME:CEST
DTSTART:20190331T010000
END:DAYLIGHT
BEGIN:STANDARD
TZOFFSETFROM:+0200
TZOFFSETTO:+0100
TZNAME:CET
DTSTART:20191027T010000
END:STANDARD
BEGIN:DAYLIGHT
TZOFFSETFROM:+0100
TZOFFSETTO:+0200
TZNAME:CEST
DTSTART:20200329T010000
END:DAYLIGHT
BEGIN:STANDARD
TZOFFSETFROM:+0200
TZOFFSETTO:+0100
TZNAME:CET
DTSTART:20201025T010000
END:STANDARD
BEGIN:DAYLIGHT
TZOFFSETFROM:+0100
TZOFFSETTO:+0200
TZNAME:CEST
DTSTART:20210328T010000
END:DAYLIGHT
BEGIN:STANDARD
TZOFFSETFROM:+0200
TZOFFSETTO:+0100
TZNAME:CET
DTSTART:20211031T010000
END:STANDARD
END:VTIMEZONE
BEGIN:VEVENT
DTSTART;VALUE=DATE:20200616
DTEND;VALUE=DATE:20201005
DTSTAMP:20260425T042117
CREATED:20200323T165312Z
LAST-MODIFIED:20200920T193539Z
UID:20051-1592265600-1601855999@actu.art
SUMMARY:La Force du dessin
DESCRIPTION:Louis-Antoine et Véronique Prat débutent dans les années 1970 une collection devenue l’un des ensembles privés de dessins parmi les plus prestigieux au monde. C’est également la première collection à avoir fait l’objet d’une présentation au Louvre\, en 1995. Le Petit Palais propose aujourd’hui de découvrir un parcours enrichi de cet ensemble\, qui se concentre sur l’illustration de l’école française avant 1900.\nL’illustration de l’école française avant 1900 : la collection Prat est particulièrement représentative de trois siècles d’art français\, de Callot à Seurat. Louis-Antoine et Véronique Prat ont toujours privilégié des œuvres très significatives du point de vue de l’histoire de l’art. Leur collection comprend également des travaux d’artistes oubliés\, mais à qui l’histoire de l’art restitue peu à peu leur place.
URL:https://actu.art/event/la-force-du-dessin/
LOCATION:Petit Palais\, Musée des Beaux-Arts de la ville de Paris\, 6\, Avenue Winston Churchill\, Paris\, Paris\, 75008\, France
CATEGORIES:Notre Sélection
ATTACH;FMTTYPE=image/jpeg:https://actu.art/wp-content/uploads/2020/03/La_Force_du_dessin.jpg
GEO:48.8660773;2.3138827
X-APPLE-STRUCTURED-LOCATION;VALUE=URI;X-ADDRESS=Petit Palais Musée des Beaux-Arts de la ville de Paris 6 Avenue Winston Churchill Paris Paris 75008 France;X-APPLE-RADIUS=500;X-TITLE=6\, Avenue Winston Churchill:geo:2.3138827,48.8660773
END:VEVENT
END:VCALENDAR